BEGIN:VCALENDAR
VERSION:2.0
PRODID:-//ChamberMaster//Event Calendar 2.0//EN
METHOD:PUBLISH
X-PUBLISHED-TTL:P3D
REFRESH-INTERVAL:P3D
CALSCALE:GREGORIAN
BEGIN:VEVENT
DTSTART:20180816T190000Z
DTEND:20180816T220000Z
X-MICROSOFT-CDO-ALLDAYEVENT:FALSE
SUMMARY:Bangor Symphony Orchestra String Quartet at the Ellsworth Antiques Show
DESCRIPTION:Thursday\, August 16\, as part of the Ellsworth Antiques Show. 3:00 p.m. to 6:00 p.m.\n\nBangor Symphony Orchestra String Quartet with complimentary wine and appetizers.
X-ALT-DESC;FMTTYPE=text/html:<div>\n<p>Thursday\, August 16\, as part of the Ellsworth Antiques Show. 3:00 p.m. to 6:00 p.m.</p>\n\n<p>Bangor Symphony Orchestra String Quartet with complimentary wine and appetizers.</p>\n</div>\n
LOCATION:Woodlawn Museum\, 19 Black House Drive\, Ellsworth\, ME 04605.
UID:e.3061.2511
SEQUENCE:3
DTSTAMP:20260420T170236Z
URL:https://www.visitbarharbor.com/events/details/bangor-symphony-orchestra-string-quartet-at-the-ellsworth-antiques-show-2511
END:VEVENT

END:VCALENDAR
