BEGIN:VCALENDAR
VERSION:2.0
PRODID:-//ChamberMaster//Event Calendar 2.0//EN
METHOD:PUBLISH
X-PUBLISHED-TTL:P3D
REFRESH-INTERVAL:P3D
CALSCALE:GREGORIAN
BEGIN:VEVENT
DTSTART:20180626T130000Z
DTEND:20180626T170000Z
X-MICROSOFT-CDO-ALLDAYEVENT:FALSE
SUMMARY:Bake Sale - MDI Hospital Auxiliary
DESCRIPTION:Baked goods\, homemade pies\, desserts\, breads\, quiches\, pasta salads\, sandwiches and fruit! The Auxiliary truly appreciates the support of this generous community!
X-ALT-DESC;FMTTYPE=text/html:Baked goods\, homemade pies\, desserts\, breads\, quiches\, pasta salads\, sandwiches and fruit! The Auxiliary truly appreciates the support of this generous community!
LOCATION:102 Main St.\, Bar Harbor
UID:e.3061.2928
SEQUENCE:3
DTSTAMP:20260420T200244Z
URL:https://www.visitbarharbor.com/events/details/bake-sale-mdi-hospital-auxiliary-2928
END:VEVENT

END:VCALENDAR
