BEGIN:VCALENDAR
VERSION:2.0
PRODID:-//ChamberMaster//Event Calendar 2.0//EN
METHOD:PUBLISH
X-PUBLISHED-TTL:P3D
REFRESH-INTERVAL:P3D
CALSCALE:GREGORIAN
BEGIN:VEVENT
DTSTART:20180611T230000Z
DTEND:20180612T010000Z
X-MICROSOFT-CDO-ALLDAYEVENT:FALSE
SUMMARY:Bag It film screening
DESCRIPTION:In this award-winning and often flat-out-funny documentary\, we follow 'everyman' Jeb Berrier as he embarks on a global tour to unravel the complexities of our plastic world. What starts as a film about plastic bags evolves into a deep investigation into plastic and its effect on our environment\, marine life\, and human health. Following the film there will be a Q&A session and discussion of our efforts to reduce plastic pollution in Ellsworth and how you can help! FREE and open to the public!
X-ALT-DESC;FMTTYPE=text/html:In this award-winning and often flat-out-funny documentary\, we follow &lsquo\;everyman&rsquo\; Jeb Berrier as he embarks on a global tour to unravel the complexities of our plastic world. What starts as a film about plastic bags evolves into a deep investigation into plastic and its effect on our environment\, marine life\, and human health. Following the film there will be a Q&amp\;A session and discussion of our efforts to reduce plastic pollution in Ellsworth and how you can help! FREE and open to the public!
LOCATION:Bryant Moore Community Center 125 State St. Ellsworth\, ME
UID:e.3061.2789
SEQUENCE:3
DTSTAMP:20260420T213745Z
URL:https://www.visitbarharbor.com/events/details/bag-it-film-screening-2789
END:VEVENT

END:VCALENDAR
