BEGIN:VCALENDAR
VERSION:2.0
PRODID:-//ChamberMaster//Event Calendar 2.0//EN
METHOD:PUBLISH
X-PUBLISHED-TTL:P3D
REFRESH-INTERVAL:P3D
CALSCALE:GREGORIAN
BEGIN:VEVENT
DTSTART:20180629T140000Z
DTEND:20180629T150000Z
X-MICROSOFT-CDO-ALLDAYEVENT:FALSE
SUMMARY:Baby Storytime
DESCRIPTION:Susan Michalski and Amanda Crafts welcome babies with songs\, rhymes\, and short stories. Baby Storytime is designed especially for babies under two years\, but we are family friendly and we welcome siblings.
X-ALT-DESC;FMTTYPE=text/html:Susan Michalski and Amanda Crafts welcome babies with songs\, rhymes\, and short stories. Baby Storytime is designed especially for babies under two years\, but we are family friendly and we welcome siblings.
LOCATION:Southwest Harbor Public Library
UID:e.3061.2168
SEQUENCE:3
DTSTAMP:20260420T232722Z
URL:https://www.visitbarharbor.com/events/details/baby-storytime-06-29-2018-2168
END:VEVENT

END:VCALENDAR
