BEGIN:VCALENDAR
VERSION:2.0
PRODID:-//ChamberMaster//Event Calendar 2.0//EN
METHOD:PUBLISH
X-PUBLISHED-TTL:P3D
REFRESH-INTERVAL:P3D
CALSCALE:GREGORIAN
BEGIN:VEVENT
DTSTART:20190215T150000Z
DTEND:20190215T160000Z
X-MICROSOFT-CDO-ALLDAYEVENT:FALSE
SUMMARY:Baby Storytime
DESCRIPTION:Susan Michalski and Amanda Crafts welcome babies with songs\, rhymes\, and short stories. Baby Storytime is designed especially for babies under two years\, but we are family friendly and we welcome siblings. For more information\, call the Library at 244-7065.
X-ALT-DESC;FMTTYPE=text/html:Susan Michalski and Amanda Crafts welcome babies with songs\, rhymes\, and short stories. Baby Storytime is designed especially for babies under two years\, but we are family friendly and we welcome siblings. For more information\, call the Library at 244-7065.
LOCATION:Southwest Harbor Public Library
UID:e.3061.4870
SEQUENCE:3
DTSTAMP:20260420T081758Z
URL:https://www.visitbarharbor.com/events/details/baby-storytime-02-15-2019-4870
END:VEVENT

END:VCALENDAR
