BEGIN:VCALENDAR
VERSION:2.0
PRODID:-//ChamberMaster//Event Calendar 2.0//EN
METHOD:PUBLISH
X-PUBLISHED-TTL:P3D
REFRESH-INTERVAL:P3D
CALSCALE:GREGORIAN
BEGIN:VEVENT
DTSTART:20190711T230000Z
DTEND:20190712T000000Z
X-MICROSOFT-CDO-ALLDAYEVENT:FALSE
SUMMARY:Authors Kim Stanley Robinson and Adam Frank in Conversation
DESCRIPTION:Join preeminent science fiction author and environmentalist Kim Stanley Robinson for two talks about the environment\, science and more at the Jesup Memorial Library. Robinson\, who is a Hugo\, Nebula\, and Locus award winner\, will be in conversation with author and astrophysicist Adam Frank on Thursday\, July 11 at 7 p.m. and then with Abe Miller-Rushing\, the science coordinator at Acadia National Park\, on Wednesday\, July 24 at 7 p.m. \n\n \n\nOn July 12\, Robinson and Frank\, the author of "Light of the Stars: Alien Worlds and the Fate of the Earth" will discuss topics including astrobiology\, the chances of finding life in the universe\, what humanity will do in space. "Light of the Stars" explores the possibilities of life on other worlds and their sudden relevance to our fate on a climate-changed Earth. \n\n\n\nRobinson is a New York Times bestselling author of more than twenty books\, including the Mars trilogy and the critically acclaimed "Forty Signs of Rain\," "The Years of Rice and Salt "and "2312." His newest book "Red Moon" is a novel about space exploration and political revolution. In 2008\, he was named a "Hero of the Environment" by Time magazine\, and he works with the Sierra Nevada Research Institute. Robinson is a member of the Jesup Memorial Library's honorary committee.\n\n\n\nBooks will be on sale that night courtesy of Sherman's Books. For more information on this event contact the Jesup at 207-288-4245.
X-ALT-DESC;FMTTYPE=text/html:<span style="font-family:times new roman\,serif"><span style="font-size:14.0pt">Join preeminent science fiction author and environmentalist Kim Stanley Robinson for two talks about the environment\, science and more at the Jesup Memorial Library. Robinson\, who is a Hugo\, Nebula\, and Locus award winner\, will be in conversation with author and astrophysicist Adam Frank on Thursday\, July 11 at 7 p.m. and then with Abe Miller-Rushing\, the science coordinator at Acadia National Park\, on Wednesday\, July 24 at 7 p.m. </span></span><br />\n&nbsp\;<br />\n<span style="font-family:times new roman\,serif"><span style="font-size:14.0pt">On July 12\, Robinson and Frank\, the author of &ldquo\;Light of the Stars: Alien Worlds and the Fate of the Earth&rdquo\; will discuss topics including astrobiology\, the chances of finding life in the universe\, what humanity will do in space. &ldquo\;Light of the Stars&rdquo\; explores the possibilities of life on other worlds and their sudden relevance to our fate on a climate-changed Earth. </span></span><br />\n<br />\n<span style="font-family:times new roman\,serif"><span style="font-size:14.0pt">Robinson is a <em>New York Times</em> bestselling author of more than twenty books\, including the Mars trilogy and the critically acclaimed &ldquo\;Forty Signs of Rain\,&rdquo\; &ldquo\;The Years of Rice and Salt &ldquo\;and &ldquo\;2312.&rdquo\; His newest book &ldquo\;Red Moon&rdquo\; is a novel about space exploration and political revolution. In 2008\, he was named a &ldquo\;Hero of the Environment&rdquo\; by <em>Time</em> magazine\, and he works with the Sierra Nevada Research Institute. Robinson is a member of the Jesup Memorial Library&rsquo\;s honorary committee.<br />\n<br />\nBooks will be on sale that night courtesy of Sherman&#39\;s Books. For more information on this event contact the Jesup at 207-288-4245.</span></span><br />\n&nbsp\;
LOCATION:Jesup Memorial Library\, 34 Mt. Desert St.\, Bar Harbor\, ME 04609
UID:e.3061.12925
SEQUENCE:3
DTSTAMP:20260419T212446Z
URL:https://www.visitbarharbor.com/events/details/authors-kim-stanley-robinson-and-adam-frank-in-conversation-12925
END:VEVENT

END:VCALENDAR
