BEGIN:VCALENDAR
VERSION:2.0
PRODID:-//ChamberMaster//Event Calendar 2.0//EN
METHOD:PUBLISH
X-PUBLISHED-TTL:P3D
REFRESH-INTERVAL:P3D
CALSCALE:GREGORIAN
BEGIN:VEVENT
DTSTART:20180805T170000Z
DTEND:20180805T180000Z
X-MICROSOFT-CDO-ALLDAYEVENT:FALSE
SUMMARY:Author Talk and Book Signing: Woody Tasch “SOIL: Notes Towards the Theory and Practice of Nurture Capital”
DESCRIPTION:Join Slow Money founder Woody Tasch as he talks about his book "SOIL: Notes Towards the Theory and Practice of Nurture Capital" at the Jesup Memorial Library on Sunday\, Aug. 5 at 1 p.m. Eliot Coleman\, author and owner of Four Season Farm\, who will be introducing Tasch at the Jesup\, writes\, "I love fertile soil\, and\, as much\, I love fertile minds. Woody Tasch has one. His heart ain't bad\, either. He puts both to marvelous\, and very important\, effect in this book. It is a vital next step for all of us who care about food\, farms\, slow money and what lies ahead."\n\n \n\nIn "SOIL" Tasch explains that "nurture capital" is a vision of finance that begins where investing and philanthropy end\, "giving us a new way to reconnect to one another and places where we live\, all the way down to local food systems and the soil." Tasch asks readers to invest their money locally in a small enterprises or small farms near where they live. Using this as a basis Tasch aims to answer the question\, "how can we fix what's broken in our economy and our country through the entry point of local food systems?" \n\n \n\nChuck Collins\, program director at the Institute for Policy Studies\, writes\, "Tasch has penned a spectacularly original and entertaining book that connects the dots\, keeps you smiling\, and lifts up the best of regenerative agriculture\, nurture capital\, and community resilience." \n\n \n\nTasch is the founder of the Slow Money movement which was based on a vision presented in his book "Inquiries into the Nature of Slow Money: Investing as if Food\, Farms\, and Fertility Mattered." The movement works to bring a flow of capital to local food systems\, connecting investors to the places where they live and promoting new principles of fiduciary responsibility that "bring money back down to earth." To date\, more than $66 million has flowed\, via dozens of local Slow Money groups\, to 697 organic farms and small food enterprises. Slow Money events have attracted thousands of people from 46 states and 7 countries. \n\n \n\nBooks will be on sale that night courtesy of co-sponsor Sherman's Books. For more information on Tasch and Slow Money visit slowmoney.org and for more information on the talk contact the Jesup at 207-288-4245 or mrice@jesuplibrary.org.
X-ALT-DESC;FMTTYPE=text/html:<span style="font-family:times new roman\,serif"><span style="font-size:14.0pt">Join Slow Money founder Woody Tasch as he talks about his book &ldquo\;SOIL: Notes Towards the Theory and Practice of Nurture Capital&rdquo\; at the Jesup Memorial Library on Sunday\, Aug. 5 at 1 p.m. Eliot Coleman\, author and owner of Four Season Farm\, who will be introducing Tasch at the Jesup\, writes\, &ldquo\;I love fertile soil\, and\, as much\, I love fertile minds. Woody Tasch has one. His heart ain&rsquo\;t bad\, either. He puts both to marvelous\, and very important\, effect in this book. It is a vital next step for all of us who care about food\, farms\, slow money and what lies ahead.&rdquo\;</span></span><br />\n&nbsp\;<br />\n<span style="font-family:times new roman\,serif"><span style="font-size:14.0pt">In &ldquo\;SOIL&rdquo\; Tasch explains that &ldquo\;nurture capital&rdquo\; is a vision of finance that begins where investing and philanthropy end\, &ldquo\;giving us a new way to reconnect to one another and places where we live\, all the way down to local food systems and the soil.&rdquo\; Tasch asks readers to invest their money locally in a small enterprises or small farms near where they live. Using this as a basis Tasch aims to answer the question\, &ldquo\;how can we fix what&rsquo\;s broken in our economy and our country through the entry point of local food systems?&rdquo\; </span></span><br />\n&nbsp\;<br />\n<span style="font-family:times new roman\,serif"><span style="font-size:14.0pt">Chuck Collins\, program director at the Institute for Policy Studies\, writes\, &ldquo\;Tasch has penned a spectacularly original and entertaining book that connects the dots\, keeps you smiling\, and lifts up the best of regenerative agriculture\, nurture capital\, and community resilience.&rdquo\; </span></span><br />\n&nbsp\;<br />\n<span style="font-family:times new roman\,serif"><span style="font-size:14.0pt">Tasch is the founder of the Slow Money movement which was based on a vision presented in his book &ldquo\;Inquiries into the Nature of Slow Money: Investing as if Food\, Farms\, and Fertility Mattered.&rdquo\; The movement works to bring a flow of capital to local food systems\, connecting investors to the places where they live and promoting new principles of fiduciary responsibility that &ldquo\;bring money back down to earth.&rdquo\; To date\, more than $66 million has flowed\, via dozens of local Slow Money groups\, to 697 organic farms and small food enterprises. Slow Money events have attracted thousands of people from 46 states and 7 countries. </span></span><br />\n&nbsp\;<br />\n<span style="font-family:times new roman\,serif"><span style="font-size:14.0pt">Books will be on sale that night courtesy of co-sponsor Sherman&rsquo\;s Books. For more information on Tasch and Slow Money visit slowmoney.org and for more information on the talk contact the Jesup at 207-288-4245 or <a href="mailto:mrice@jesuplibrary.org">mrice@jesuplibrary.org</a></span>. </span>
LOCATION:Jesup Memorial Lubrary\, 34 Mt. Desert St.\, Bar Harbor\, ME 04609
UID:e.3061.3365
SEQUENCE:3
DTSTAMP:20260420T170854Z
URL:https://www.visitbarharbor.com/events/details/author-talk-and-book-signing-woody-tasch-soil-notes-towards-the-theory-and-practice-of-nurture-capital-3365
END:VEVENT

END:VCALENDAR
