BEGIN:VCALENDAR
VERSION:2.0
PRODID:-//ChamberMaster//Event Calendar 2.0//EN
METHOD:PUBLISH
X-PUBLISHED-TTL:P3D
REFRESH-INTERVAL:P3D
CALSCALE:GREGORIAN
BEGIN:VEVENT
DTSTART:20180929T230000Z
DTEND:20180930T000000Z
X-MICROSOFT-CDO-ALLDAYEVENT:FALSE
SUMMARY:Author Talk and Book Signing" Terri-Lynne DeFino "The Bar Harbor Retirement Home for Famous Writers (and their Muses)”
DESCRIPTION:In Terri-Lynne DeFino's book "The Bar Harbor Retirement Home for Famous Writers (and their Muses)" authors have come to the "Bar Harbor Home for Elderly" to spend their days amount kindred spirits\, the publishing industry's nearly gone but never forgotten greats. Join DeFino at the Jesup Memorial Library on Saturday\, Sept. 29 at 7 p.m. for an author talk and book signing. \n\n \n\nThe book tells the story of Alfonse Carducci who was a literary giant who lived his life to excess. Only now\, in Bar Harbor\, at the end of his life\, does he comprehend the price of appeasing every desire\, and the consequences of forsaking love to pursue greatness. For Alfonse has an unshakeable case of writer's block that distresses him much more than his precarious health. There among the orderlies Alfonse meets Cecibel Bringer\, who becomes his muse. Cecibel\, who is living a quiet life as an orderly\, never anticipated the impact of meeting her favorite writer\, or the effect he would have on her existence.\n\n \n\nRT Book Reviews writes\, "DeFino's latest novel is a tale that emphasizes that second chances\, artistic redemption and true love   in all its forms   can come at any time and any age. DeFino has a unique gift for language that captures the nostalgia and still-sharp wit of her aging artists perfectly." And in their starred review\, Library Journal writes the book is "a solid hit\, perfect for book clubs and readers who love to read about writers\, writing\, and books\; why we love them\; and how they make life worth living."\n\n \n\nDeFino was born in New Jersey\, but escaped to the wilds of Connecticut where she still lives with her husband\, and her cats. She is also the author of the "Bitterly Suite" romance series. \n\n \n\nBooks will be on sale that night courtesy of Sherman's Books. For more information\, contact the Jesup at 207-288-4245 or mrice@jesuplibrary.org
X-ALT-DESC;FMTTYPE=text/html:<span style="font-family:times new roman\,serif"><span style="font-size:14.0pt">In Terri-Lynne DeFino&rsquo\;s book &ldquo\;The Bar Harbor Retirement Home for Famous Writers (and their Muses)&rdquo\; authors have come to the &ldquo\;Bar Harbor Home for Elderly&rdquo\; to spend their days amount kindred spirits\, the publishing industry&rsquo\;s nearly gone but never forgotten greats. Join DeFino at the Jesup Memorial Library on Saturday\, Sept. 29 at 7 p.m. for an author talk and book signing. </span></span><br />\n&nbsp\;<br />\n<span style="font-family:times new roman\,serif"><span style="font-size:14.0pt">The book tells the story of Alfonse Carducci who was a literary giant who lived his life to excess. Only now\, in Bar Harbor\, at the end of his life\, does he comprehend the price of appeasing every desire\, and the consequences of forsaking love to pursue greatness. For Alfonse has an unshakeable case of writer&#39\;s block that distresses him much more than his precarious health. There among the orderlies Alfonse meets Cecibel Bringer\, who becomes his muse. Cecibel\, who is living a quiet life as an orderly\, never anticipated the impact of meeting her favorite writer\, or the effect he would have on her existence.</span></span><br />\n&nbsp\;<br />\n<em><span style="font-family:times new roman\,serif"><span style="font-size:14.0pt">RT Book Reviews </span></span></em><span style="font-family:times new roman\,serif"><span style="font-size:14.0pt">writes\, &ldquo\;DeFino&rsquo\;s latest novel is a tale that emphasizes that second chances\, artistic redemption and true love &mdash\; in all its forms &mdash\; can come at any time and any age. DeFino has a unique gift for language that captures the nostalgia and still-sharp wit of her aging artists perfectly.&rdquo\; And in their starred review\, <em>Library Journal</em> writes the book is &ldquo\;a solid hit\, perfect for book clubs and readers who love to read about writers\, writing\, and books\; why we love them\; and how they make life worth living.&rdquo\;</span></span><br />\n&nbsp\;<br />\n<span style="font-family:times new roman\,serif"><span style="font-size:14.0pt">DeFino was born in New Jersey\, but escaped to the wilds of Connecticut where she still lives with her husband\, and her cats. She is also the author of the &ldquo\;Bitterly Suite&rdquo\; romance series. </span></span><br />\n&nbsp\;<br />\n<span style="font-family:times new roman\,serif"><span style="font-size:14.0pt"><span>Books will be on sale that night courtesy of Sherman&rsquo\;s Books. For more information\, contact the Jesup at <span class="gc-cs-link" id="gc-number-0" title="Call with Google Voice">207-288-4245</span> or </span><a href="mailto:mrice@jesuplibrary.org">mrice@jesuplibrary.org</a></span></span>
LOCATION:Jesup Memorial Library\, 34 Mt. Desert St.\, Bar Harbor\, ME 04609
UID:e.3061.3927
SEQUENCE:3
DTSTAMP:20260420T170937Z
URL:https://www.visitbarharbor.com/events/details/author-talk-and-book-signing-terri-lynne-defino-the-bar-harbor-retirement-home-for-famous-writers-and-their-muses-3927
END:VEVENT

END:VCALENDAR
