BEGIN:VCALENDAR
VERSION:2.0
PRODID:-//ChamberMaster//Event Calendar 2.0//EN
METHOD:PUBLISH
X-PUBLISHED-TTL:P3D
REFRESH-INTERVAL:P3D
CALSCALE:GREGORIAN
BEGIN:VEVENT
DTSTART:20181004T230000Z
DTEND:20181005T000000Z
X-MICROSOFT-CDO-ALLDAYEVENT:FALSE
SUMMARY:Author Talk and Book Signing: Ruth Fortner Grierson and Thomas F. Vining “Living on the Edge: A Guide to Tide Pool Animals\, Seaweeds\, and Seaside Plants”
DESCRIPTION:Learn more about the animals and plants that dot the Maine coast with authors Ruth Fortner Grierson and Thomas F. Vining at the Jesup Memorial Library on Thursday\, Oct. 4 at 7 p.m. Grierson and Vining are the co-authors of "Living on the Edge: A Guide to Tide Pool Animals\, Seaweeds\, and Seaside Plants"\n\n \n\n"Living on the Edge" features the habitats found along the coast including sand and cobble beaches\, salt marshes\, as well as the water itself\, as well as the common organisms found there including plants\, lichens\, algae and animals. For each section\, Grierson writes about the plants and their uses as well as history\, while Vining writes about their scientific classification and how they are related to other species.\n\n \n\nGrierson is the weekly nature columnist for the Mount Desert Islander and has been a freelance nature writer for more than 50 years. She has authored five natural history books including "Wildlife Watching on Mount Desert Island." Vining is a former seasonal interpretive ranger at Acadia National Park and has a botany degree from the University of Maine in Orono. \n\n \n\nFor more information contact the Jesup at 207-288-4245 or mrice@jesuplibrary.org.
X-ALT-DESC;FMTTYPE=text/html:<span style="font-family:times new roman\,serif"><span style="font-size:14.0pt">Learn more about the animals and plants that dot the Maine coast with authors Ruth Fortner Grierson and Thomas F. Vining at the Jesup Memorial Library on Thursday\, Oct. 4 at 7 p.m. Grierson and Vining are the co-authors of &ldquo\;Living on the Edge: A Guide to Tide Pool Animals\, Seaweeds\, and Seaside Plants&rdquo\;</span></span><br />\n&nbsp\;<br />\n<span style="font-family:times new roman\,serif"><span style="font-size:14.0pt">&ldquo\;Living on the Edge&rdquo\; features the habitats found along the coast including sand and cobble beaches\, salt marshes\, as well as the water itself\, as well as the common organisms found there including plants\, lichens\, algae and animals. For each section\, Grierson writes about the plants and their uses as well as history\, while Vining writes about their scientific classification and how they are related to other species.</span></span><br />\n&nbsp\;<br />\n<span style="font-family:times new roman\,serif"><span style="font-size:14.0pt">Grierson is the weekly nature columnist for the <em>Mount Desert Islander</em> and has been a freelance nature writer for more than 50 years. She has authored five natural history books including &ldquo\;Wildlife Watching on Mount Desert Island.&rdquo\; Vining is a former seasonal interpretive ranger at Acadia National Park and has a botany degree from the University of Maine in Orono. </span></span><br />\n&nbsp\;<br />\n<span style="font-family:times new roman\,serif"><span style="font-size:14.0pt"><span>For more information contact the Jesup at <span class="gc-cs-link" id="gc-number-0" title="Call with Google Voice">207-288-4245</span> or </span><a href="mailto:mrice@jesuplibrary.org">mrice@jesuplibrary.org</a></span>.</span>
LOCATION:Jesup Memorial Library\, 34 Mt. Desert St.\, Bar Harbor\, ME 04609
UID:e.3061.3931
SEQUENCE:3
DTSTAMP:20260420T132935Z
URL:https://www.visitbarharbor.com/events/details/author-talk-and-book-signing-ruth-fortner-grierson-and-thomas-f-vining-living-on-the-edge-a-guide-to-tide-pool-animals-seaweeds-and-seaside-plants-3931
END:VEVENT

END:VCALENDAR
