BEGIN:VCALENDAR
VERSION:2.0
PRODID:-//ChamberMaster//Event Calendar 2.0//EN
METHOD:PUBLISH
X-PUBLISHED-TTL:P3D
REFRESH-INTERVAL:P3D
CALSCALE:GREGORIAN
BEGIN:VEVENT
DTSTART:20190606T230000Z
DTEND:20190607T000000Z
X-MICROSOFT-CDO-ALLDAYEVENT:FALSE
SUMMARY:Author Talk and Book Signing: “Robin Emery: Maine’s First Lady of Road Racing”
DESCRIPTION:Robin Emery\, who lives in Lamonie\, is considered a pioneer in the sport of road racing in Maine\, meet her and author Ed Rice who wrote\, "Robin Emery: Maine's First Lady of Road Racing" at a special author event at the Jesup Memorial Library on Thursday\, June 6 at 7 p.m.  Rice and Emery will speak about her incredible career and legacy.\n\n \n\nEmery began running in 1967 when her nightly jog turned into a 4-mile run. When she started running\, women were not allowed to race with men and there were no sports teams for girls in schools\, but that was no deterrent. Emery persisted\, trying a range of sports as a child from golf to football before establishing herself in the field of running. In many of her races\, she was the only woman running and the organizers only reluctantly let her enter. In 1972\, she was one of the first two women to run in the Portland Boy's Club 5-miler\, the oldest race in the state. While directors initially vetoed the women's applications\, they eventually allowed both women to race\, and Emery went on to win the women's division 13 times. Emery went on to integrate races around the state. She went on to inspire countless women and girls including Maine's Olympic gold medal winning Joan Benoit Samuelson\, who started running in 1974 and was the first woman to beat Emery in a road race.  At 51\, Emery had won more than 250 races in Maine\, two national championships\, and a 10th-place finish in the cross-country master's division. Emery\, now in her seventies\, continues to run every day\, 40 miles a week. \n\n \n\nRice grew up in Bangor and was a reporter for several daily newspapers\, including the Lewiston Daily Sun and the Portland Press Herald and a theater critic and arts commentator for the Portland Press Herald\, Maine Sunday Telegram\, Maine Times and Maine Public Broadcasting System's "Maine Things Considered" on radio. He is the author of "Baseball's First Indian\, Louis Sockalexis: Penobscot Legend\, Cleveland Indian" and "Native Trailblazer\, Andrew Sockalexis: Penobscot Indian who Followed the Maine Running Path to Glory and Tragedy." Rice is also an avid long distance runner who has run and completed 27 marathons and he created Bangor's popular Terry Fox 5-K Run. \n\n \n\nRice and Emery are both members of the Maine Running Hall of Fame. \n\n \n\nBooks will be on sale that night courtesy of Sherman's Books. For more information on the talk\, contact the Jesup at 207-288-4245.
X-ALT-DESC;FMTTYPE=text/html:<span style="font-family:times new roman\,serif"><span style="font-size:14.0pt">Robin Emery\, who lives in Lamonie\, is considered a pioneer in the sport of road racing in Maine\, meet her and author Ed Rice who wrote\, &ldquo\;Robin Emery: Maine&rsquo\;s First Lady of Road Racing&rdquo\; at a special author event at the Jesup Memorial Library on Thursday\, June 6 at 7 p.m.&nbsp\; Rice and Emery will speak about her incredible career and legacy.</span></span><br />\n&nbsp\;<br />\n<span style="font-family:times new roman\,serif"><span style="font-size:14.0pt">Emery began running in 1967 when her nightly jog turned into a 4-mile run. When she started running\, women were not allowed to race with men and there were no sports teams for girls in schools\, but that was no deterrent. Emery persisted\, trying a range of sports as a child from golf to football before establishing herself in the field of running. In many of her races\, she was the only woman running and the organizers only reluctantly let her enter. In 1972\, she was one of the first two women to run in the Portland Boy&rsquo\;s Club 5-miler\, the oldest race in the state. While directors initially vetoed the women&rsquo\;s applications\, they eventually allowed both women to race\, and Emery went on to win the women&rsquo\;s division 13 times. Emery went on to integrate races around the state. She went on to inspire countless women and girls including Maine&rsquo\;s Olympic gold medal winning Joan Benoit Samuelson\, who started running in 1974 and was the first woman to beat Emery in a road race.&nbsp\; At 51\, Emery had won more than 250 races in Maine\, two national championships\, and a 10<sup>th</sup>-place finish in the cross-country master&rsquo\;s division. Emery\, now in her seventies\, continues to run every day\, 40 miles a week. </span></span><br />\n&nbsp\;<br />\n<span style="font-family:times new roman\,serif"><span style="font-size:14.0pt">Rice grew up in Bangor and was a reporter for several daily newspapers\, including the <em>Lewiston Daily Sun</em> and the <em>Portland Press Herald</em> and a theater critic and arts commentator for the <em>Portland Press Herald\, Maine Sunday Telegram\, Maine Times</em> and Maine Public Broadcasting System&rsquo\;s &ldquo\;Maine Things Considered&rdquo\; on radio. He is the author of &ldquo\;Baseball&rsquo\;s First Indian\, Louis Sockalexis: Penobscot Legend\, Cleveland Indian&rdquo\; and &ldquo\;Native Trailblazer\, Andrew Sockalexis: Penobscot Indian who Followed the Maine Running Path to Glory and Tragedy.&rdquo\; Rice is also an avid long distance runner who has run and completed 27 marathons and he created Bangor&rsquo\;s popular Terry Fox 5-K Run. </span></span><br />\n&nbsp\;<br />\n<span style="font-family:times new roman\,serif"><span style="font-size:14.0pt">Rice and Emery are both members of the Maine Running Hall of Fame. </span></span><br />\n&nbsp\;<br />\n<span style="font-family:times new roman\,serif"><span style="font-size:14.0pt">Books will be on sale that night courtesy of Sherman&rsquo\;s Books. For more information on the talk\, contact the Jesup at 207-288-4245. </span></span>
LOCATION:Jesup Memorial Library\, 34 Mt. Desert St.\, Bar Harbor\, ME
UID:e.3061.9244
SEQUENCE:3
DTSTAMP:20260419T231915Z
URL:https://www.visitbarharbor.com/events/details/author-talk-and-book-signing-robin-emery-maine-s-first-lady-of-road-racing-9244
END:VEVENT

END:VCALENDAR
