BEGIN:VCALENDAR
VERSION:2.0
PRODID:-//ChamberMaster//Event Calendar 2.0//EN
METHOD:PUBLISH
X-PUBLISHED-TTL:P3D
REFRESH-INTERVAL:P3D
CALSCALE:GREGORIAN
BEGIN:VEVENT
DTSTART:20191115T000000Z
DTEND:20191115T010000Z
X-MICROSOFT-CDO-ALLDAYEVENT:FALSE
SUMMARY:Author Talk and Book Signing: Robert Klose "Life on Mars"
DESCRIPTION:Robert Klose's book "Life on Mars" offers a unique blend of science fiction\, absurdism and social satire. Join Klose for an author talk and book signing at the Jesup Memorial Library on Thursday\, Nov. 14 at 7 p.m.\n\n \n\n"Life on Mars" takes a satirical look at evolution vs. Intelligent Design. The book asks the question: what if a higher intelligence did indeed get the ball of creation rolling? But\, what if God was not the ultimate creator and instead\, an alien race\, called the Spong\, had seeded earth as a botanical garden eons ago only to return and find it contaminated with humans. In preparation for a "Treatment" to correct their error\, the Spong assign a human to act as earth's final biographer to provide them with proof of why humans just have to go.\n\n \n\nMonica Wood\, author of "The One-in-a-Million Boy" writes\, "In 'Life on Mars\,' Klose sheds the cleansing light of comedy on our pitiful times. His earnest band of characters are immensely appealing and\, in some cases\, literally larger than life. Award-winning thriller author Gerry Boyle adds\, "'Life on Mars' is an intriguing\, and even startling\, trip of a novel. This story is a heck of a ride."\n\n \n\nKlose is a regular contributor of essays to The Christian Science Monitor. He is the author of six books including the novel\, "Long Live Grover Cleveland\," which won a 2016 Ben Franklin Literary Award and a USA Book News Award. Klose teaches at the University of Maine at Augusta.\n\n \n\nBooks will be on sale that night courtesy of Sherman's Books. For more information on this talk\, contact the Jesup at 207-288-4245.
X-ALT-DESC;FMTTYPE=text/html:<span style="font-family:times new roman\,serif"><span style="font-size:14.0pt">Robert Klose&rsquo\;s book &ldquo\;Life on Mars&rdquo\; offers a unique blend of science fiction\, absurdism and social satire. Join Klose for an author talk and book signing at the Jesup Memorial Library on Thursday\, Nov. 14 at 7 p.m.</span></span><br />\n&nbsp\;<br />\n<span style="font-family:times new roman\,serif"><span style="font-size:14.0pt">&ldquo\;Life on Mars&rdquo\; takes a satirical look at evolution vs. Intelligent Design. The book asks the question: what if a higher intelligence did indeed get the ball of creation rolling? But\, what if God was not the ultimate creator and instead\, an alien race\, called the Spong\, had seeded earth as a botanical garden eons ago only to return and find it contaminated with humans. In preparation for a &ldquo\;Treatment&rdquo\; to correct their error\, the Spong assign a human to act as earth&rsquo\;s final biographer to provide them with proof of why humans just have to go.</span></span><br />\n&nbsp\;<br />\n<span style="font-family:times new roman\,serif"><span style="font-size:14.0pt">Monica Wood\, author of &ldquo\;The One-in-a-Million Boy&rdquo\; writes\, &ldquo\;In &lsquo\;Life on Mars\,&rsquo\; Klose sheds the cleansing light of comedy on our pitiful times. His earnest band of characters are immensely appealing and\, in some cases\, literally larger than life. Award-winning thriller author Gerry Boyle adds\, &ldquo\;&lsquo\;Life on Mars&rsquo\; is an intriguing\, and even startling\, trip of a novel. This story is a heck of a ride.&rdquo\;</span></span><br />\n&nbsp\;<br />\n<span style="font-family:times new roman\,serif"><span style="font-size:14.0pt">Klose is a regular contributor of essays to&nbsp\;<em>The Christian Science Monitor</em>.&nbsp\;He is the author of six books including the novel\, &ldquo\;Long Live Grover Cleveland\,&rdquo\; which won a 2016 Ben Franklin Literary Award and a USA Book News Award.</span></span> <span style="font-family:times new roman\,serif"><span style="font-size:14.0pt">Klose teaches at the University of Maine at Augusta.</span></span><br />\n&nbsp\;<br />\n<span style="font-family:times new roman\,serif"><span style="font-size:14.0pt">Books will be on sale that night courtesy of Sherman&rsquo\;s Books. For more information on this talk\, contact the Jesup at 207-288-4245. </span></span>
LOCATION:Jesup Memorial Library\, 34 Mt. Desert St.\, Bar Harbor
UID:e.3061.16327
SEQUENCE:3
DTSTAMP:20260419T160002Z
URL:https://www.visitbarharbor.com/events/details/author-talk-and-book-signing-robert-klose-life-on-mars-16327
END:VEVENT

END:VCALENDAR
