BEGIN:VCALENDAR
VERSION:2.0
PRODID:-//ChamberMaster//Event Calendar 2.0//EN
METHOD:PUBLISH
X-PUBLISHED-TTL:P3D
REFRESH-INTERVAL:P3D
CALSCALE:GREGORIAN
BEGIN:VEVENT
DTSTART:20180905T230000Z
DTEND:20180906T000000Z
X-MICROSOFT-CDO-ALLDAYEVENT:FALSE
SUMMARY:Author Talk and Book Signing: "Naming Mt. Thoreau"
DESCRIPTION:Join authors Kim Stanley Robinson\, Michael Blumlein and Hilary Gordon as they speak about "Naming Mt. Thoreau" at the Jesup Memorial Library on Wednesday\, September 5 at 7 p.m. \n\n \n\n"Naming Mt. Thoreau" features essays\, poems\, and photographs from group of friends who set out to rename USGS Sierra Nevada peak 12\,691 to "Mt. Thoreau" in honor of naturalist\, philosopher\, transcendentalist\, and author Henry David Thoreau. Contributors to the book include Blumlein\, Robinson and Gordon along with Dick Bryan\, Darryl DeVinney\, Tom Killion\, Paul Park\, David Robertson\, Carter Scholz\, Gary Snyder and Christopher Woodcock. \n\n \n\nRobinson is a New York Times bestseller and winner of the Hugo\, Nebula and Locus awards. He is the author of more than twenty books\, including the bestselling Mars trilogy and the critically acclaimed "Forty Signs of Rain\," "The Years of Rice and Salt" and "2312." In 2008\, he was named a "Hero of the Environment" by Time magazine\, and he works with the Sierra Nevada Research Institute. \n\n \n\nGordon matriculated with the first class of freshmen women at Yale\, and graduated with an MA in Philosophy.  Since then\, she has worked as a life-long professional organic gardener and garden educator. From 2007 to 2016\, she was the garden manager of the Garden for the Environment\, San Francisco's public teaching garden. For the last six years\, she has been an instructor in the Garden and Compost Educator Training Program.\n\n \n\nBlumlein is the author of four novels and three story collections\, including the award-winning "The Brains of Rats."  He has twice been a finalist for the World Fantasy Award and received the coveted ReaderCon Award for fiction. Until his recent retirement Dr. Blumlein taught and practiced medicine at the University of California in San Francisco.  \n\n \n\nBooks will be on sale that night courtesy of co-sponsor Sherman's Books. For more information contact the Jestup at 207-288-4245 or mrice@jesuplibrary.org.
X-ALT-DESC;FMTTYPE=text/html:<span style="font-family:times new roman\,serif"><span style="font-size:14.0pt">Join authors Kim Stanley Robinson\, Michael Blumlein and Hilary Gordon as they speak about &ldquo\;Naming Mt. Thoreau&rdquo\; at the Jesup Memorial Library on Wednesday\, September 5 at 7 p.m. </span></span><br />\n&nbsp\;<br />\n<span style="font-family:times new roman\,serif"><span style="font-size:14.0pt">&ldquo\;Naming Mt. Thoreau&rdquo\; features essays\, poems\, and photographs from group of friends who set out to rename USGS Sierra Nevada peak 12\,691 to &ldquo\;Mt. Thoreau&rdquo\; in honor of naturalist\, philosopher\, transcendentalist\, and author Henry David Thoreau. Contributors to the book include Blumlein\, Robinson and Gordon along with Dick Bryan\, Darryl DeVinney\, Tom Killion\, Paul Park\, David Robertson\, Carter Scholz\, Gary Snyder and Christopher Woodcock. </span></span><br />\n&nbsp\;<br />\n<span style="font-family:times new roman\,serif"><span style="font-size:14.0pt">Robinson is a <em>New York Times</em> bestseller and winner of the Hugo\, Nebula and Locus awards. He is the author of more than twenty books\, including the bestselling Mars trilogy and the critically acclaimed &ldquo\;Forty Signs of Rain\,&rdquo\; &ldquo\;The Years of Rice and Salt&rdquo\; and &ldquo\;2312.&rdquo\; In 2008\, he was named a &ldquo\;Hero of the Environment&rdquo\; by Time magazine\, and he works with the Sierra Nevada Research Institute. </span></span><br />\n&nbsp\;<br />\n<span style="font-family:times new roman\,serif"><span style="font-size:14.0pt">Gordon matriculated with the first class of freshmen women at Yale\, and graduated with an MA in Philosophy.&nbsp\; Since then\, she has worked as a life-long professional organic gardener and garden educator. From 2007 to 2016\, she was the garden manager of the Garden for the Environment\, San Francisco&rsquo\;s public teaching garden. For the last six years\, she has been an instructor in the Garden and Compost Educator Training Program.</span></span><br />\n&nbsp\;<br />\n<span style="font-family:times new roman\,serif"><span style="font-size:14.0pt">Blumlein is the author of four novels and three story collections\, including the award-winning &ldquo\;The Brains of Rats.&rdquo\;&nbsp\; He has twice been a finalist for the World Fantasy Award and received the coveted ReaderCon Award for fiction. Until his recent retirement Dr. Blumlein taught and practiced medicine at the University of California in San Francisco.&nbsp\; </span></span><br />\n&nbsp\;<br />\n<span style="font-family:times new roman\,serif"><span style="font-size:14.0pt"><span>Books will be on sale that night courtesy of co-sponsor Sherman&rsquo\;s Books. For more information contact the Jestup at <span class="gc-cs-link" id="gc-number-0" title="Call with Google Voice">207-288-4245</span> or </span><a href="mailto:mrice@jesuplibrary.org">mrice@jesuplibrary.org</a></span>.</span>
LOCATION:Jesup Memorial Library\, 34 Mt. Desert St.\, Bar Harbor\, ME 04609
UID:e.3061.3734
SEQUENCE:3
DTSTAMP:20260420T150235Z
URL:https://www.visitbarharbor.com/events/details/author-talk-and-book-signing-naming-mt-thoreau-3734
END:VEVENT

END:VCALENDAR
