BEGIN:VCALENDAR
VERSION:2.0
PRODID:-//ChamberMaster//Event Calendar 2.0//EN
METHOD:PUBLISH
X-PUBLISHED-TTL:P3D
REFRESH-INTERVAL:P3D
CALSCALE:GREGORIAN
BEGIN:VEVENT
DTSTART:20180629T230000Z
DTEND:20180630T000000Z
X-MICROSOFT-CDO-ALLDAYEVENT:FALSE
SUMMARY:Author Talk and Book Signing: Meg Little Reilly "Everything that Follows"
DESCRIPTION:In her new novel\, "Everything That Follows\," Meg Little Reilly\, who worked in the Obama Administration\, explores what happens when a rash decision has life-altering results. Reilly will be at the Jesup Memorial Library on Friday\, June 29 at 7 p.m. for an author talk and book signing. \n\n \n\nIn "Everything That Follows\," Kat and Hunter\, two old friends\, and Kyle\, a new acquaintance gather\, at a Martha's Vineyard bar and decide in their inebriated state to continue the party offshore. The mood turns threatening\, and as sheets of rain pour down\, Kyle goes overboard. Was it a tragic accident? Or a case of foul play? The truth is elusive. Is Kyle a victim or villain? This chilling tale ventures into the shadows to illuminate the gray area where survival extorts a heavy price and those who pay it must learn to live with its cost.\n\n \n\nKim Cross\, the New York Times Bestselling author of "What Stands In A Storm" writes\, "Taut with moral complexity and a subtly building tension\, this is the kind of story that punishes you if you dare to put it down." And Booklist adds "Everything That Follows" is "a skillfully wrought tale of atonement in a frame of psychological suspense."\n\n \n\nReilly is the author of the two novels "Everything That Follows" and "We Are Unprepared." She is a public radio commentator\, essayist and outdoors enthusiast. Her work has appeared in McSweeney's\, Literary Hub\, Vermont Public Radio\, Politico\, Women Writers\, and more. Prior to writing novels\, Meg worked in national politics and the White House as the deputy associate director in the Office of Budget Management. She holds a B.A. from the University of Vermont and an M.A. from the George Washington University. \n\n \n\nBooks will be on sale that night courtesy of co-sponsor Sherman's Books and the talk is co-sponsored by Bar Harbor Bank & Trust. For more information on Reilly visit meglittlereilly.com and for more information on the talk contact the Jesup at 207-288-4245 or mrice@jesuplibrary.org.
X-ALT-DESC;FMTTYPE=text/html:<span style="font-family:times new roman\,serif"><span style="font-size:14.0pt">In her new novel\, &ldquo\;Everything That Follows\,&rdquo\; Meg Little Reilly\, who worked in the Obama Administration\, explores what happens when a rash decision has life-altering results. Reilly will be at the Jesup Memorial Library on Friday\, June 29 at 7 p.m. for an author talk and book signing. </span></span><br />\n&nbsp\;<br />\n<span style="font-family:times new roman\,serif"><span style="font-size:14.0pt">In &ldquo\;Everything That Follows\,&rdquo\; Kat and Hunter\, two old friends\, and Kyle\, a new acquaintance gather\, at a Martha&rsquo\;s Vineyard bar and decide in their inebriated state to continue the party offshore. The mood turns threatening\, and as sheets of rain pour down\, Kyle goes overboard. Was it a tragic accident? Or a case of foul play? The truth is elusive. Is Kyle a victim or villain? This chilling tale ventures into the shadows to illuminate the gray area where survival extorts a heavy price&mdash\;and those who pay it must learn to live with its cost.</span></span><br />\n&nbsp\;<br />\n<span style="font-family:times new roman\,serif"><span style="font-size:14.0pt">Kim Cross\, the <em>New York Times</em> Bestselling author of &ldquo\;What Stands In A Storm&rdquo\; writes\, &ldquo\;Taut with moral complexity and a subtly building tension\, this is the kind of story that punishes you if you dare to put it down.&rdquo\; And <em>Booklist </em>adds &ldquo\;Everything That Follows&rdquo\; is &ldquo\;a skillfully wrought tale of atonement in a frame of psychological suspense.&rdquo\;</span></span><br />\n&nbsp\;<br />\n<span style="font-family:times new roman\,serif"><span style="font-size:14.0pt">Reilly is the author of the two novels &ldquo\;Everything That Follows&rdquo\; and &ldquo\;We Are Unprepared.&rdquo\; She is a public radio commentator\, essayist and outdoors enthusiast. Her work has appeared in <em>McSweeney&#39\;s\, Literary Hub\, Vermont Public Radio\, Politico\, Women Writers</em>\, and more. Prior to writing novels\, Meg worked in national politics and the White House as the deputy associate director in the Office of Budget Management. She holds a B.A. from the University of Vermont and an M.A. from the George Washington University. </span></span><br />\n&nbsp\;<br />\n<span style="font-family:times new roman\,serif"><span style="font-size:14.0pt">Books will be on sale that night courtesy of co-sponsor Sherman&rsquo\;s Books and the talk is co-sponsored by Bar Harbor Bank &amp\; Trust. For more information on Reilly visit meglittlereilly.com and for more information on the talk contact the Jesup at 207-288-4245 or mrice@jesuplibrary.org. </span></span>
LOCATION:Jesup Memorial Library\, 34 Mt. Desert St.\, Bar Harbor\, ME 04609
UID:e.3061.2877
SEQUENCE:3
DTSTAMP:20260420T200258Z
URL:https://www.visitbarharbor.com/events/details/author-talk-and-book-signing-meg-little-reilly-everything-that-follows-2877
END:VEVENT

END:VCALENDAR
