BEGIN:VCALENDAR
VERSION:2.0
PRODID:-//ChamberMaster//Event Calendar 2.0//EN
METHOD:PUBLISH
X-PUBLISHED-TTL:P3D
REFRESH-INTERVAL:P3D
CALSCALE:GREGORIAN
BEGIN:VEVENT
DTSTART:20180626T230000Z
DTEND:20180627T000000Z
X-MICROSOFT-CDO-ALLDAYEVENT:FALSE
SUMMARY:Author Talk and Book Signing: Linda Greenlaw "Bimini Twist"
DESCRIPTION:Famed fisherman\, boat captain\, and best-selling author Linda Greenlaw will be at the Jesup Memorial Library on Tuesday\, June 26 at 7 p.m. for the international launch of the fourth book in her Jane Bunker mystery series\, "Bimini Twist\," which is set in Bar Harbor. Her event at the Jesup is the kick off of her book tour and she will be speaking at the library the night the book is released.  \n\n \n\nIn "Bimini Twist\," Jane Bunker has scored an invite to Green Haven's exclusive Summer Solstice Soiree but that's the last place she wants to be\; hobnobbing and making small talk with the upper crust isn't exactly her idea of a good time. She prefers to put in her hours working as an insurance investigator\, and part-time as the deputy sheriff. When she gets to work one morning\, the sheriff asks her to take a break on her personal war on drugs instead\, Jane takes on a missing person case a young woman working at the Bar Harbor Inn has disappeared. The Inn employs foreign exchange students from all over the world during the busy summer season\, and the missing Bianca Chiriac is one of them. When it becomes clear that Bianca isn't just sleeping off a late-night party\, Jane is plunged into the underbelly of the resort town\, and must find the missing woman before the worst happens. \n\n\n\n \n\nGreenlaw is the author of the bestsellers "The Hungry Ocean\," "All Fishermen are Liars\," "The Lobster Chronicles\," and "Recipes from a Small Island\," as well as the Jane Bunker mysteries. Before becoming a writer\, she was the captain of a swordboat\, the career that earned her a prominent role in Sebastian Junger's "The Perfect Storm" and a portrayal in the subsequent film. She now lives on Isle au Haut\, Maine\, where she captains a lobster boat.\n\n \n\nThis author talk is cosponsored by Bar Harbor Bank & Trust and books will be on sale that night courtesy of cosponsor Sherman's Books. The doors for this event will open at 6:30 p.m.\n\n \n\nFor more information on Greenlaw visit lindagreenlaw.com and for more information on the talk contact the Jesup at 207-288-4245 or mrice@jesuplibrary.org.
X-ALT-DESC;FMTTYPE=text/html:<span style="font-family:times new roman\,serif"><span style="font-size:14.0pt">Famed fisherman\, boat captain\, and best-selling author Linda Greenlaw will be at the Jesup Memorial Library on Tuesday\, June 26 at 7 p.m. for the international launch of the fourth book in her Jane Bunker mystery series\, &ldquo\;Bimini Twist\,&rdquo\; which is set in Bar Harbor. Her event at the Jesup is the kick off of her book tour and she will be speaking at the library the night the book is released.&nbsp\; </span></span><br />\n&nbsp\;<br />\n<span style="font-family:times new roman\,serif"><span style="font-size:14.0pt">In &ldquo\;Bimini Twist\,&rdquo\; Jane Bunker has scored an invite to Green Haven&rsquo\;s exclusive Summer Solstice Soiree but that&rsquo\;s the last place she wants to be\; hobnobbing and making small talk with the upper crust isn&rsquo\;t exactly her idea of a good time. She prefers to put in her hours working as an insurance investigator\, and part-time as the deputy sheriff. When she gets to work one morning\, the sheriff asks her to take a break on her personal war on drugs&mdash\;instead\, Jane takes on a missing person case&mdash\;a young woman working at the Bar Harbor Inn has disappeared. The Inn employs foreign exchange students from all over the world during the busy summer season\, and the missing Bianca Chiriac is one of them. When it becomes clear that Bianca isn&rsquo\;t just sleeping off a late-night party\, Jane is plunged into the underbelly of the resort town\, and must find the missing woman before the worst happens. </span></span><br />\n<br />\n&nbsp\;<br />\n<span style="font-family:times new roman\,serif"><span style="font-size:14.0pt">Greenlaw is the author of the bestsellers &ldquo\;The Hungry Ocean\,&rdquo\; &ldquo\;All Fishermen are Liars\,&rdquo\; &ldquo\;The Lobster Chronicles\,&rdquo\; and &ldquo\;Recipes from a Small Island\,&rdquo\; as well as the Jane Bunker mysteries. Before becoming a writer\, she was the captain of a swordboat\, the career that earned her a prominent role in Sebastian Junger&rsquo\;s &ldquo\;The Perfect Storm&rdquo\; and a portrayal in the subsequent film. She now lives on Isle au Haut\, Maine\, where she captains a lobster boat.</span></span><br />\n&nbsp\;<br />\n<span style="font-family:times new roman\,serif"><span style="font-size:14.0pt">This author talk is cosponsored by Bar Harbor Bank &amp\; Trust and books will be on sale that night courtesy of cosponsor Sherman&rsquo\;s Books. The doors for this event will open at 6:30 p.m.</span></span><br />\n&nbsp\;<br />\n<span style="font-family:times new roman\,serif"><span style="font-size:14.0pt">For more information on Greenlaw visit lindagreenlaw.com and for more information on the talk contact the Jesup at 207-288-4245 or </span></span><a href="mailto:mrice@jesuplibrary.org"><span style="font-family:times new roman\,serif"><span style="font-size:14.0pt">mrice@jesuplibrary.org</span></span></a><span style="font-family:times new roman\,serif"><span style="font-size:14.0pt">. </span></span>
LOCATION:Jesup Memorial Library\, 34 Mt. Desert St.\, Bar Harbor\, ME 04609
UID:e.3061.2795
SEQUENCE:3
DTSTAMP:20260420T200406Z
URL:https://www.visitbarharbor.com/events/details/author-talk-and-book-signing-linda-greenlaw-bimini-twist-2795
END:VEVENT

END:VCALENDAR
