BEGIN:VCALENDAR
VERSION:2.0
PRODID:-//ChamberMaster//Event Calendar 2.0//EN
METHOD:PUBLISH
X-PUBLISHED-TTL:P3D
REFRESH-INTERVAL:P3D
CALSCALE:GREGORIAN
BEGIN:VEVENT
DTSTART:20190516T230000Z
DTEND:20190517T000000Z
X-MICROSOFT-CDO-ALLDAYEVENT:FALSE
SUMMARY:Author Talk and Book Signing: Kirsten Lie-Nielsen “So You Want To Be A Modern Homesteader?: All the Dirt on Living the Good Life”
DESCRIPTION:If you have ever dreamed of running away from it all and living off the land\, join author and homesteader Kirsten Lie-Nielsen at the Jesup Memorial Library on Thursday\, May 16 at 7 p.m. as talks about her book "So You Want To Be A Modern Homesteader?: All the Dirt on Living the Good Life."\n\n \n\nLie-Nielsen moved to an abandoned farm in Liberty\, Maine and is currently restoring the property to its former glory. Her farm is now home to goats\, geese\, chickens and an extensive vegetable garden. With her farm\, Lie-Nielsen says her goal is to break the mold of traditional farming with a modern take on homesteading. Her book "So You Want to Be A Modern Homesteader?" aims to do just that. It is a "look before you leap" guide to the joys and pitfalls of homesteading. Lie-Nielsen gives in in-depth look at homesteading for people considering the lifestyle\, and talks about the surprises of country living as well as explaining practical things like heating with a wood stove and raising animals for food. She also covers topics like finding the right property\, practical "must-have" skills\, earning an income and farming on a budget\, creating community and much more. \n\n \n\nLie-Nielsen runs Hostile Valley Farm with her husband. After starting a small hobby homestead\, her endeavors quickly grew to encompass geese\, goats\, chickens\, bees\, ducks\, and extensive vegetable and herb gardens. Her first book is "A Modern Homesteader's Guide to Keeping Geese" is a practical guide for homesteaders\, small farmers\, permaculturists\, and professional farmers looking to add geese to their land. She also writes about her experiences as a homesteader and the lessons of life on the farm for publications such as Grit\, Mother Earth News\, Backyard Poultry\, and Hobbyfarms.com.\n\n \n\nFor more information on Lie-Nielsen visit www.hostilevalleyliving.com and for more information on the talk contact the Jesup at 207-288-4245 or mrice@jesuplibrary.org.
X-ALT-DESC;FMTTYPE=text/html:<p><span style="font-family:times new roman"><span style="font-size:14.0pt">If you have ever dreamed of running away from it all and living off the land\, join author and homesteader Kirsten Lie-Nielsen at the Jesup Memorial Library on Thursday\, May 16 at 7 p.m. as talks about her book &ldquo\;So You Want To Be A Modern Homesteader?: All the Dirt on Living the Good Life.&rdquo\;</span><br />\n&nbsp\;<br />\n<span style="font-size:14.0pt">Lie-Nielsen moved to an abandoned farm in Liberty\, Maine and is currently restoring the property to its former glory. Her farm is now home to goats\, geese\, chickens and an extensive vegetable garden. With her farm\, Lie-Nielsen says her goal is to break the mold of traditional farming with a modern take on homesteading. Her book &ldquo\;So You Want to Be A Modern Homesteader?&rdquo\; aims to do just that. It is a &ldquo\;look before you leap&rdquo\; guide to the joys and pitfalls of homesteading. Lie-Nielsen gives in in-depth look at homesteading for people considering the lifestyle\, and talks about the surprises of country living as well as explaining practical things like heating with a wood stove and raising animals for food. She also covers topics like finding the right property\, practical &ldquo\;must-have&rdquo\; skills\, earning an income and farming on a budget\, creating community and much more. </span><br />\n&nbsp\;<br />\n<span style="font-size:14.0pt">Lie-Nielsen runs Hostile Valley Farm with her husband. After starting a small hobby homestead\, her endeavors quickly grew to encompass geese\, goats\, chickens\, bees\, ducks\, and extensive vegetable and herb gardens. Her first book is </span><span style="font-size:14.0pt">&ldquo\;A Modern Homesteader&#39\;s Guide to Keeping Geese&rdquo\; is a practical guide for homesteaders\, small farmers\, permaculturists\, and professional farmers looking to add geese to their land. She also writes about her experiences as a homesteader and the lessons of life on the farm for publications such as <em>Grit</em>\, <em>Mother Earth News\, Backyard Poultry</em>\, and Hobbyfarms.com.</span><br />\n&nbsp\;<br />\n<span style="font-size:14.0pt">For more information on Lie-Nielsen visit <a href="http://www.hostilevalleyliving.com/">www.hostilevalleyliving.com</a></span><span> and for more information on the talk contact the Jesup at <span class="gc-cs-link" id="gc-number-0" title="Call with Google Voice">207-288-4245</span> or </span><a href="mailto:mrice@jesuplibrary.org">mrice@jesuplibrary.org</a>.</span></p>\n
LOCATION:Jesup Memorial Library\, 34 Mt. Desert St.\, Bar Harbor\, ME 04609
UID:e.3061.8994
SEQUENCE:3
DTSTAMP:20260420T010431Z
URL:https://www.visitbarharbor.com/events/details/author-talk-and-book-signing-kirsten-lie-nielsen-so-you-want-to-be-a-modern-homesteader-all-the-dirt-on-living-the-good-life-05-16-2019-8994
END:VEVENT

END:VCALENDAR
