BEGIN:VCALENDAR
VERSION:2.0
PRODID:-//ChamberMaster//Event Calendar 2.0//EN
METHOD:PUBLISH
X-PUBLISHED-TTL:P3D
REFRESH-INTERVAL:P3D
CALSCALE:GREGORIAN
BEGIN:VEVENT
DTSTART:20190407T180000Z
DTEND:20190407T190000Z
X-MICROSOFT-CDO-ALLDAYEVENT:FALSE
SUMMARY:Author Talk and Book Signing: Julie Dobrow "After Emily: Two Remarkable Women and the Legacy of America’s Greatest Poet'
DESCRIPTION:Emily Dickinson is one of America's greatest poets\, but at the time of her death only a handful of her thousands of poems had been published. Now\, more than a century after her death\, learn about the two women who were instrumental in publishing her works and for creating the literary icon we know today. Join author Julie Dobrow at the Jesup Memorial Library on Sunday\, April 7 at 2 p.m. as she talks about her book "After Emily: Two Remarkable Women and the Legacy of America's Greatest Poet." "After Emily" was longlisted for the PEN/Jacqueline Bograd Weld Award for Biography.\n\n \n\nWhen Dickinson died\, few knew of her poetry and she asked her sister\, Lavinia\, to burn all of her work. However\, Lavinia could not bring herself to destroy Emily's poetry and instead she asked Mabel Loomis Todd to edit the work. Todd and Emily Dickinson had never met but they had corresponded and Todd used that insight to edit Dickinson's poetry. Dobrow extensively researched the lives of Todd and her daughter Millicent Todd Bingham\, who continued her mother's work. "After Emily" weaves together the stories of the three women and shines a light on how the work of Todd and Bingham created the image of Dickinson have today. Dobrow highlights the growing tensions between Todd and the Dickinson family\, as well as Bingham's struggles with her mother's obsession editing Dickinson's work and her decision to carry on her mother's work. This book will have readers seeing Dickinson's work in new ways. \n\n \n\nThe Washington Post writes\, "If you're interested in "America's greatest poet\," intellectual property issues or juicy behind-the-scenes literary history\, 'After Emily' is your book." And\, Kirkus adds\, "The author sensitively explores the (much-criticized) editorial choices Todd made and the question of who was responsible for the 'legend' of Emily-the-recluse-in-white."\n\n \n\nDobrow is a professor in department of Child Study and Human Development as well as the Tisch College of Civic Life at Tufts University. She also serves as director of the Center for Interdisciplinary Studies at the university. Her writing has appeared in Boston Globe Magazine and the Huffington Post\, among other publications. \n\n \n\nThis talk is co-sponsored by Sherman's Books and books will be on sale that night. For more information on Dobrow\, visit www.juliedobrow.com and for more information on the talk contact the Jesup at 207-288-4245 or mrice@jesuplibrary.org.
X-ALT-DESC;FMTTYPE=text/html:<span style="font-family:times new roman\,serif"><span style="font-size:14.0pt">Emily Dickinson is one of America&rsquo\;s greatest poets\, but at the time of her death only a handful of her thousands of poems had been published. Now\, more than a century after her death\, learn about the two women who were instrumental in publishing her works and for creating the literary icon we know today. Join author Julie Dobrow at the Jesup Memorial Library on Sunday\, April 7 at 2 p.m. as she talks about her book &ldquo\;After Emily: Two Remarkable Women and the Legacy of America&rsquo\;s Greatest Poet.&rdquo\; &ldquo\;After Emily&rdquo\; was longlisted for the PEN/Jacqueline Bograd Weld Award for Biography.</span></span><br />\n&nbsp\;<br />\n<span style="font-family:times new roman\,serif"><span style="font-size:14.0pt">When Dickinson died\, few knew of her poetry and she asked her sister\, Lavinia\, to burn all of her work. However\, Lavinia could not bring herself to destroy Emily&rsquo\;s poetry and instead she asked Mabel Loomis Todd to edit the work. Todd and Emily Dickinson had never met but they had corresponded and Todd used that insight to edit Dickinson&rsquo\;s poetry. Dobrow extensively researched the lives of Todd and her daughter Millicent Todd Bingham\, who continued her mother&rsquo\;s work. &ldquo\;After Emily&rdquo\; weaves together the stories of the three women and shines a light on how the work of Todd and Bingham created the image of Dickinson have today. Dobrow highlights the growing tensions between Todd and the Dickinson family\, as well as Bingham&rsquo\;s struggles with her mother&rsquo\;s obsession editing Dickinson&rsquo\;s work and her decision to carry on her mother&rsquo\;s work. This book will have readers seeing Dickinson&rsquo\;s work in new ways. </span></span><br />\n&nbsp\;<br />\n<em><span style="font-family:times new roman\,serif"><span style="font-size:14.0pt">The Washington Post</span></span></em><span style="font-family:times new roman\,serif"><span style="font-size:14.0pt"> writes\, &ldquo\;If you&rsquo\;re interested in &ldquo\;America&rsquo\;s greatest poet\,&rdquo\; intellectual property issues or juicy behind-the-scenes literary history\, &lsquo\;After Emily&rsquo\; is your book.&rdquo\; And\, <em>Kirkus </em>adds\, &ldquo\;The author sensitively explores the (much-criticized) editorial choices Todd made and the question of who was responsible for the &lsquo\;legend&rsquo\; of Emily-the-recluse-in-white.&rdquo\;</span></span><br />\n&nbsp\;<br />\n<span style="font-family:times new roman\,serif"><span style="font-size:14.0pt">Dobrow is a professor in department of Child Study and Human Development as well as the Tisch College of Civic Life at Tufts University. She also serves as director of the Center for Interdisciplinary Studies at the university. Her writing has appeared in <em>Boston Globe Magazine</em> and the <em>Huffington Post</em>\, among other publications. </span></span><br />\n&nbsp\;<br />\n<span style="font-family:times new roman\,serif"><span style="font-size:14.0pt">This talk is co-sponsored by Sherman&rsquo\;s Books and books will be on sale that night. For more information on Dobrow\, visit <a href="http://www.juliedobrow.com/">www.juliedobrow.com</a></span><span> and for more information on the talk contact the Jesup at <span class="gc-cs-link" id="gc-number-0" title="Call with Google Voice">207-288-4245</span> or </span><a href="mailto:mrice@jesuplibrary.org">mrice@jesuplibrary.org</a></span>.
LOCATION:Jesup Memorial Library\, 34 Mt. Desert St.\, Bar Harbor\, ME 04609
UID:e.3061.8783
SEQUENCE:3
DTSTAMP:20260420T024529Z
URL:https://www.visitbarharbor.com/events/details/author-talk-and-book-signing-julie-dobrow-after-emily-two-remarkable-women-and-the-legacy-of-america-s-greatest-poet-8783
END:VEVENT

END:VCALENDAR
