BEGIN:VCALENDAR
VERSION:2.0
PRODID:-//ChamberMaster//Event Calendar 2.0//EN
METHOD:PUBLISH
X-PUBLISHED-TTL:P3D
REFRESH-INTERVAL:P3D
CALSCALE:GREGORIAN
BEGIN:VEVENT
DTSTART:20180830T230000Z
DTEND:20180831T000000Z
X-MICROSOFT-CDO-ALLDAYEVENT:FALSE
SUMMARY:Author Talk and Book Signing: Jennifer Skiff "Rescuing Ladybugs: Inspirational Encounters with Animals That Changed the World”
DESCRIPTION:Join author Jennifer Skiff for a talk about her newest book "Rescuing Ladybugs: Inspirational Encounters with Animals That Changed the World" on Thursday\, August 30 at 7 p.m. at the Jesup Memorial Library. Skiff is an award-winning journalist and the author of "The Divinity of Dogs."\n\n \n\n"Rescuing Ladybugs" is around-the-world adventure with animal advocate Skiff. The book starts with the moment she connected with a tortured bear in Laos and includes the story of her successful quest to free him by building the first bear sanctuary in the country. The stories in this book are about the people she's met and about how their lives and the lives of the animals they helped have been changed forever. She travels to Borneo to meet people who release orangutans\, to Brazil to help conserve Jaguars\, to Africa to work to connect with chimpanzees and elephants\, to the Maldives to free Mantas and finally to Indonesia\, the only place where dragons are known to still exist in the wild. These stories tell about how wonderful things can happen when our actions are driven by compassion. \n\n \n\nSkiff is a journalist and bestselling author. For more than a decade\, she has travelled the globe as a correspondent for CNN. Passionate about animals and their welfare\, she serves as trustee\, adviser and spokesperson for charities around the world while working with lawmakers to create positive change. A recipient of the Environmental Media Award\, Skiff lives in Maine and Australia.\n\n \n\nBooks will be on sale that night courtesy of co-sponsor Sherman's Books. To reserve a book contact Melinda Rice at 207-288-4245 or mrice@jesuplibrary.org. For more information on Skiff visit jenniferskiff.com and for more information on the talk contact the Jesup at 207-288-4245 or mrice@jesuplibrary.org.
X-ALT-DESC;FMTTYPE=text/html:<span style="font-family:times new roman\,serif"><span style="font-size:14.0pt">Join author Jennifer Skiff for a talk about her newest book &ldquo\;Rescuing Ladybugs: Inspirational Encounters with Animals That Changed the World&rdquo\; on Thursday\, August 30 at 7 p.m. at the Jesup Memorial Library. Skiff is an award-winning journalist and the author of &ldquo\;The Divinity of Dogs.&rdquo\;</span></span><br />\n&nbsp\;<br />\n<span style="font-family:times new roman\,serif"><span style="font-size:14.0pt">&ldquo\;Rescuing Ladybugs&rdquo\; is around-the-world adventure with animal advocate Skiff. The book starts with the moment she connected with a tortured bear in Laos and includes the story of her successful quest to free him by building the first bear sanctuary in the country. The stories in this book are about the people she&rsquo\;s met and about how their lives and the lives of the animals they helped have been changed forever. She travels to Borneo to meet people who release orangutans\, to Brazil to help conserve Jaguars\, to Africa to work to connect with chimpanzees and elephants\, to the Maldives to free Mantas and finally to Indonesia\, the only place where dragons are known to still exist in the wild. These stories tell about how wonderful things can happen when our actions are driven by compassion. </span></span><br />\n&nbsp\;<br />\n<span style="font-family:times new roman\,serif"><span style="font-size:14.0pt">Skiff is a journalist and bestselling author. For more than a decade\, she has travelled the globe as a correspondent for CNN. Passionate about animals and their welfare\, she serves as trustee\, adviser and spokesperson for charities around the world while working with lawmakers to create positive change. A recipient of the Environmental Media Award\, Skiff lives in Maine and Australia.</span></span><br />\n&nbsp\;<br />\n<span style="font-family:times new roman\,serif"><span style="font-size:14.0pt"><span>Books will be on sale that night courtesy of co-sponsor Sherman&rsquo\;s Books. To reserve a book contact Melinda Rice at <span class="gc-cs-link" id="gc-number-0" title="Call with Google Voice">207-288-4245</span> or mrice@jesuplibrary.org. For more information on Skiff visit jenniferskiff.com and for more information on the talk contact the Jesup at 207-288-4245 or </span><a href="mailto:mrice@jesuplibrary.org">mrice@jesuplibrary.org</a></span>.</span>
LOCATION:Jesup Memorial Library\, 34 Mt. Desert St.\, Bar Harbor\, ME 04609
UID:e.3061.3733
SEQUENCE:3
DTSTAMP:20260420T170739Z
URL:https://www.visitbarharbor.com/events/details/author-talk-and-book-signing-jennifer-skiff-rescuing-ladybugs-inspirational-encounters-with-animals-that-changed-the-world-3733
END:VEVENT

END:VCALENDAR
