BEGIN:VCALENDAR
VERSION:2.0
PRODID:-//ChamberMaster//Event Calendar 2.0//EN
METHOD:PUBLISH
X-PUBLISHED-TTL:P3D
REFRESH-INTERVAL:P3D
CALSCALE:GREGORIAN
BEGIN:VEVENT
DTSTART:20191108T000000Z
DTEND:20191108T010000Z
X-MICROSOFT-CDO-ALLDAYEVENT:FALSE
SUMMARY:Author Talk and Book Signing: Jeffrey Ryan "Hermit: The Mysterious Life of Jim Whyte"
DESCRIPTION:When Jim Whyte settled outside the slate mining town of Monson\, Maine in 1895\, people hardly knew what to make of him. Almost 130 years later\, people still do not know much about the man who became the "Hermit of Monson." Join author Jeffrey Ryan at the Jesup Memorial Library on Thursday\, Nov. 7 at 7 p.m. as he talks about Whyte and his book "Hermit: The Mysterious Life of Jim Whyte." \n\n \n\nA world traveler that spoke six languages fluently\, Whyte came to town with sacks full of money and a fierce desire to keep to himself. And\, it was clear from the beginning that Whyte was hiding from something. Even the FBI came to town looking into Whyte and his background. And\, no one could figure out how Whyte who lost every penny he had when WWI broke out\, amassed another fortune before he died. Based on this true story\, "Hermit\," is a semi-fictional story about one man's quest to discover all he can about Whyte's secret life before it is too late.\n\n \n\nEarle G. Shettleworth\, Jr.\, Maine State Historian\, writes "Ryan tells an engaging story about a mysterious Maine hermit who lived in the woods of Piscataquis County near the Appalachian Trail. The author takes us back to the mid-20th century in the Maine woods with a descriptive force and a gentle nostalgia that realistically evoke both time and place."\n\n \n\nRyan is an author\, adventurer\, photographer and historian. He has written several books about his time in the outdoors\, as well as his fascination with hiking trails and the people and places found just off the beaten path. His debut book\, "Appalachian Odyssey: A 28-Year Hike on America's Trail" was called "a classic of nature and travel writing" by the executive editor of National Geographic. \n\n \n\nBooks will be on sale that night courtesy of Sherman's Books. For more information on the event\, contact the Jesup at 207-288-4245.
X-ALT-DESC;FMTTYPE=text/html:<span style="font-family:times new roman\,serif"><span style="font-size:14.0pt">When Jim Whyte settled outside the slate mining town of Monson\, Maine in 1895\, people hardly knew what to make of him. Almost 130 years later\, people still do not know much about the man who became the &ldquo\;Hermit of Monson.&rdquo\; Join author Jeffrey Ryan at the Jesup Memorial Library on Thursday\, Nov. 7 at 7 p.m. as he talks about Whyte and his book &ldquo\;Hermit: The Mysterious Life of Jim Whyte.&rdquo\; </span></span><br />\n&nbsp\;<br />\n<span style="font-family:times new roman\,serif"><span style="font-size:14.0pt">A world traveler that spoke six languages fluently\, Whyte came to town with sacks full of money and a fierce desire to keep to himself. And\, it was clear from the beginning that Whyte was hiding from something. Even the FBI came to town looking into Whyte and his background. And\, no one could figure out how Whyte who lost every penny he had when WWI broke out\, amassed another fortune before he died. Based on this true story\, &ldquo\;Hermit\,&rdquo\; is a semi-fictional story about one man&rsquo\;s quest to discover all he can about Whyte&rsquo\;s secret life before it is too late.</span></span><br />\n&nbsp\;<br />\n<span style="font-family:times new roman\,serif"><span style="font-size:14.0pt">Earle G. Shettleworth\, Jr.\, Maine State Historian\, writes &ldquo\;Ryan tells an engaging story about a mysterious Maine hermit who lived in the woods of Piscataquis County near the Appalachian Trail. The author takes us back to the mid-20th century in the Maine woods with a descriptive force and a gentle nostalgia that realistically evoke both time and place.&rdquo\;</span></span><br />\n&nbsp\;<br />\n<span style="font-family:times new roman\,serif"><span style="font-size:14.0pt">Ryan is an author\, adventurer\, photographer and historian. He has written several books about his time in the outdoors\, as well as his fascination with hiking trails and the people and places found just off the beaten path. His debut book\, &ldquo\;Appalachian Odyssey: A 28-Year Hike on America&rsquo\;s Trail&rdquo\; was called &ldquo\;a classic of nature and travel writing&rdquo\; by the executive editor of <em>National Geographic</em>. </span></span><br />\n&nbsp\;<br />\n<span style="font-family:times new roman\,serif"><span style="font-size:14.0pt">Books will be on sale that night courtesy of Sherman&rsquo\;s Books. For more information on the event\, contact the Jesup at 207-288-4245. </span></span>
LOCATION:Jesup Memorial Library\, 34 Mt. Desert St.\, Bar Harbor\, ME 04609
UID:e.3061.16266
SEQUENCE:3
DTSTAMP:20260419T160324Z
URL:https://www.visitbarharbor.com/events/details/author-talk-and-book-signing-jeffrey-ryan-hermit-the-mysterious-life-of-jim-whyte-16266
END:VEVENT

END:VCALENDAR
