BEGIN:VCALENDAR
VERSION:2.0
PRODID:-//ChamberMaster//Event Calendar 2.0//EN
METHOD:PUBLISH
X-PUBLISHED-TTL:P3D
REFRESH-INTERVAL:P3D
CALSCALE:GREGORIAN
BEGIN:VEVENT
DTSTART:20180530T230000Z
DTEND:20180531T000000Z
X-MICROSOFT-CDO-ALLDAYEVENT:FALSE
SUMMARY:Author Talk and Book Signing: Emily Bracale “Our Last Six Months: an Illustrated Memoir about Death\, Cancer\, End-of-life Care\, Love\, Family\, and Forgiveness”
DESCRIPTION:Author and artist Emily Bracale recounts the last six months of Aubrey Bart's life in her memoir "Our Last Six Months: an Illustrated Memoir about Death\, Cancer\, End-of-life Care\, Love\, Family\, and Forgiveness." Join her at the Jesup Memorial Library on Wednesday\, May 30 at 7 p.m. as she talks about the memoir\, her creative process and more. Bracale also will lead a memoir writing workshop at the Jesup on Saturday\, June 2 at 11 a.m. \n\n \n\n"Our Last Six Months" follows Bart as he reveals to his ex-wife and 13-year-old son that he has Stage 4 cancer. The book weaves together the story visually\, through hundreds of cartoons\, comics\, and painted illustrations\, and through text. It follows the path the family takes as Bart comes to terms with his own mortality and his experiences with hospitals\, nursing care and end-of-life decisions. While this is one person's story\, it also showcases what millions of people in the U.S. go through when dealing with end-of-life choices and healthcare\, the governmental and health insurance bureaucracies and the profound effects of poverty on health. It also highlights the generosity of Aubrey's family\, friends and community which made a profound difference.\n\n \n\n "This is more than a memoir-it is an essential guidebook for others in similar difficult situations\," says Jeanie Smith\, board president of The Whole Heath Center. "The author gives us a direct and true account in an honest and openhearted way\, never maudlin or sentimental. Illustrations help to tell this story with warmth and humor. This is a gem of a book."\n\n \n\nBracale is a lifelong artist and educator. She is a graduate of the Interlochen Arts Academy and College of the Atlantic. Her professional experience includes classroom teaching at public and private schools\, art education for children and adults\, graphic design\, landscape design\, watercolor landscape painting and nonfiction writing. She is the author and illustrator of "In the Lyme-Light: Portraits of Illness and Healing" and the revised edition\, "In the Lyme-Light II: Portraits of Illness and Healing." \n\n \n\nBooks will be on sale that night and both events are free and open to the public. For more information about "Our Last Six Months" visit www.ourlastsixmonthsbook.com and for more information on either event contact mrice@jesuplibrary.org or 207-288-4245.
X-ALT-DESC;FMTTYPE=text/html:<span style="font-family:times new roman\,serif"><span style="font-size:14.0pt">Author and artist Emily Bracale recounts the last six months of Aubrey Bart&rsquo\;s life in her memoir &ldquo\;Our Last Six Months: an Illustrated Memoir about Death\, Cancer\, End-of-life Care\, Love\, Family\, and Forgiveness.&rdquo\; Join her at the Jesup Memorial Library on Wednesday\, May 30 at 7 p.m. as she talks about the memoir\, her creative process and more. Bracale also will lead a memoir writing workshop at the Jesup on Saturday\, June 2 at 11 a.m. </span></span><br />\n&nbsp\;<br />\n<span style="font-family:times new roman\,serif"><span style="font-size:14.0pt">&ldquo\;Our Last Six Months&rdquo\; follows Bart as he reveals to his ex-wife and 13-year-old son that he has Stage 4 cancer. The book weaves together the story visually\, through hundreds of cartoons\, comics\, and painted illustrations\, and through text. It follows the path the family takes as Bart comes to terms with his own mortality and his experiences with hospitals\, nursing care and end-of-life decisions. While this is one person&rsquo\;s story\, it also showcases what millions of people in the U.S. go through when dealing with end-of-life choices and healthcare\, the governmental and health insurance bureaucracies and the profound effects of poverty on health. It also highlights the generosity of Aubrey&rsquo\;s family\, friends and community which made a profound difference.</span></span><br />\n&nbsp\;<br />\n<span style="font-family:times new roman\,serif"><span style="font-size:14.0pt">&nbsp\;&ldquo\;This is more than a memoir-it is an essential guidebook for others in similar difficult situations\,&rdquo\; says Jeanie Smith\, board president of The Whole Heath Center. &ldquo\;The author gives us a direct and true account in an honest and openhearted way\, never maudlin or sentimental. Illustrations help to tell this story with warmth and humor. This is a gem of a book.&rdquo\;</span></span><br />\n&nbsp\;<br />\n<span style="font-family:times new roman\,serif"><span style="font-size:14.0pt">Bracale is a lifelong artist and educator. She is a graduate of the Interlochen Arts Academy and College of the Atlantic. Her professional experience includes classroom teaching at public and private schools\, art education for children and adults\, graphic design\, landscape design\, watercolor landscape painting and nonfiction writing. She is the author and illustrator of &ldquo\;In the Lyme-Light: Portraits of Illness and Healing&rdquo\; and the revised edition\, &ldquo\;In the Lyme-Light II: Portraits of Illness and Healing.&rdquo\; </span></span><br />\n&nbsp\;<br />\n<span style="font-family:times new roman\,serif"><span style="font-size:14.0pt">Books will be on sale that night and both events are free and open to the public. For more information about &ldquo\;Our Last Six Months&rdquo\; visit </span></span><a href="http://www.ourlastsixmonthsbook.com/"><span style="font-family:times new roman\,serif"><span style="font-size:14.0pt">www.ourlastsixmonthsbook.com</span></span></a><span style="font-family:times new roman\,serif"><span style="font-size:14.0pt"> and for more information on either event contact </span></span><a href="mailto:mrice@jesuplibrary.org"><span style="font-family:times new roman\,serif"><span style="font-size:14.0pt">mrice@jesuplibrary.org</span></span></a><span style="font-family:times new roman\,serif"><span style="font-size:14.0pt"> or 207-288-4245. </span></span>
LOCATION:Jesup Memorial Library\, 34 Mt. Desert St.\, Bar Harbor\, ME 04609
UID:e.3061.2536
SEQUENCE:3
DTSTAMP:20260420T233502Z
URL:https://www.visitbarharbor.com/events/details/author-talk-and-book-signing-emily-bracale-our-last-six-months-an-illustrated-memoir-about-death-cancer-end-of-life-care-love-family-and-forgiveness-2536
END:VEVENT

END:VCALENDAR
