BEGIN:VCALENDAR
VERSION:2.0
PRODID:-//ChamberMaster//Event Calendar 2.0//EN
METHOD:PUBLISH
X-PUBLISHED-TTL:P3D
REFRESH-INTERVAL:P3D
CALSCALE:GREGORIAN
BEGIN:VEVENT
DTSTART:20180607T230000Z
DTEND:20180608T000000Z
X-MICROSOFT-CDO-ALLDAYEVENT:FALSE
SUMMARY:Author Talk and Book Signing: Earl Brechlin "Return to Moose River"
DESCRIPTION:For more than 40 years\, Earl Brechlin has explored the woods and rivers of the North Maine Woods by foot and canoe with a small group of friends\, the Moose River Boys. Now\, in "Return to Moose River: In Search of the Spirit of the Great North Woods\," Brechlin explores what this special part of Maine means to him. Join him for the launch of "Return to Moose River" on Thursday\, June 7 at 7 p.m. at the Jesup Memorial Library.\n\n \n\nOften humorous and thrilling at once\, this is a heartfelt narrative which features interconnected essays peppered with tidbits of history\, woods lore\, and advice from a seasoned outdoorsman. "Return to Moose River" highlights Brechlin's search to comprehend sense of place\, and find self in exploring spiritual and historic connections with a spectacular\, ancient landscape.\n\n \n\nBooks will be on sale that night courtesy of Sherman's Books. This talk is co-sponsored by Bar Harbor Bank & Trust. For more information on Brechlin visit earlbrechlin.com and for more information on the talk contact the Jesup at 207-288-4245 or mrice@jesuplibrary.org.
X-ALT-DESC;FMTTYPE=text/html:<span dir="rtl"><span style="font-family:times new roman\,serif"><span style="font-size:14.0pt">For more than 40 years\, Earl Brechlin has explored the woods and rivers of the North Maine Woods by foot and canoe with a small group of friends\, the Moose River Boys. Now\, in &ldquo\;Return to Moose River: In Search of the Spirit of the Great North Woods\,&rdquo\; Brechlin explores what this special part of Maine means to him. Join him for the launch of &ldquo\;Return to Moose River&rdquo\; on Thursday\, June 7 at 7 p.m. at the Jesup Memorial Library.</span></span><br />\n&nbsp\;<br />\n<span style="font-family:times new roman\,serif"><span style="font-size:14.0pt">Often humorous and thrilling at once\, this is a heartfelt narrative which features interconnected essays peppered with tidbits of history\, woods lore\, and advice from a seasoned outdoorsman. &ldquo\;Return to Moose River&rdquo\; highlights Brechlin&rsquo\;s search to comprehend sense of place\, and find self in exploring spiritual and historic connections with a spectacular\, ancient landscape.</span></span><br />\n&nbsp\;<br />\n<span style="font-family:times new roman\,serif"><span style="font-size:14.0pt">Books will be on sale that night courtesy of Sherman&rsquo\;s Books. This talk is co-sponsored by Bar Harbor Bank &amp\; Trust. For more information on Brechlin visit earlbrechlin.com and for more information on the talk contact the Jesup at 207-288-4245 or </span></span><a href="mailto:mrice@jesuplibrary.org"><span style="font-family:times new roman\,serif"><span style="font-size:14.0pt">mrice@jesuplibrary.org</span></span></a><span style="font-family:times new roman\,serif"><span style="font-size:14.0pt">.</span></span></span>
LOCATION:Jesup Memorial Library\, 34 Mt. Desert St.\, Bar Harbor\, ME 04609
UID:e.3061.2791
SEQUENCE:3
DTSTAMP:20260420T215236Z
URL:https://www.visitbarharbor.com/events/details/author-talk-and-book-signing-earl-brechlin-return-to-moose-river-2791
END:VEVENT

END:VCALENDAR
