BEGIN:VCALENDAR
VERSION:2.0
PRODID:-//ChamberMaster//Event Calendar 2.0//EN
METHOD:PUBLISH
X-PUBLISHED-TTL:P3D
REFRESH-INTERVAL:P3D
CALSCALE:GREGORIAN
BEGIN:VEVENT
DTSTART:20180922T143000Z
DTEND:20180922T153000Z
X-MICROSOFT-CDO-ALLDAYEVENT:FALSE
SUMMARY:Author Talk and Book Signing: Diane Magras “The Mad Wolf’s Daughter”
DESCRIPTION:In Diane Magras's middle grade book "The Mad Wolf's Daughter" Drest's sheltered life on a remote Scottish headland is shattered when invading knights capture her family\, but leave Drest behind. So she starts off on a wild rescue attempt\, taking a wounded invader along as a hostage. Join Magras for an author talk and book signing at the Jesup Memorial Library on Saturday\, September 22 at 10:30 a.m. \n\n \n\n"The Mad Wolf's Daughter" was inspired not just by Scotland\, but also by Magras's youth spent on Mount Desert Island and in Acadia National Park. She will read from her book and talk about her inspiration as well as the medieval castles that are featured in the book. After the talk\, kids will learn how to make their own castle based on the one in the book. \n\n \n\nThe New York Times named "The Mad Wolf's Daughter" an editor's choice writing\, "Drest is a ferocious heroine it's clear we're in the hands of a master storyteller .'The Mad Wolf's Daughter' feels like an instant classic." And\, a Publisher's Weekly starred review stated\, "Empathetic\, bold\, and entirely herself at a time when women were dismissed as weak\, Drest shines in this fast-paced adventure."\n\n \n\nMagras grew up on Mount Desert Island in Maine surrounded by woods\, cliffs\, and the sea. She lives in Maine with her husband and son and thinks often of Scotland\, where her books are set. Her next book\, "The Hunt for the Mad Wolf's Daughter\," will be published next year.\n\n \n\nThis talk is for children ages eight and up and is open to adults as well. Books will be on sale that morning courtesy of co-sponsor Sherman's Books. For more information on Magras visit dianemagras.com and for more information on the talk contact the Jesup at 207-288-4245 or mcorrion@jesuplibrary.org.
X-ALT-DESC;FMTTYPE=text/html:<span style="font-family:times new roman\,serif"><span style="font-size:14.0pt">In Diane Magras&rsquo\;s middle grade book &ldquo\;The Mad Wolf&rsquo\;s Daughter&rdquo\; Drest&rsquo\;s sheltered life on a remote Scottish headland is shattered when invading knights capture her family\, but leave Drest behind. So she starts off on a wild rescue attempt\, taking a wounded invader along as a hostage. Join Magras for an author talk and book signing at the Jesup Memorial Library on Saturday\, September 22 at 10:30 a.m. </span></span><br />\n&nbsp\;<br />\n<span style="font-family:times new roman\,serif"><span style="font-size:14.0pt">&ldquo\;The Mad Wolf&rsquo\;s Daughter&rdquo\; was inspired not just by Scotland\, but also by Magras&rsquo\;s youth spent on Mount Desert Island and in Acadia National Park. She will read from her book and talk about her inspiration as well as the medieval castles that are featured in the book. After the talk\, kids will learn how to make their own castle based on the one in the book. </span></span><br />\n&nbsp\;<br />\n<span style="font-family:times new roman\,serif"><span style="font-size:14.0pt">The <em>New York Times</em> named &ldquo\;The Mad Wolf&rsquo\;s Daughter&rdquo\; an editor&rsquo\;s choice writing\, &ldquo\;Drest is a ferocious heroine&hellip\;it&rsquo\;s clear we&rsquo\;re in the hands of a master storyteller&hellip\;.&rsquo\;The Mad Wolf&rsquo\;s Daughter&rsquo\; feels like an instant classic.&rdquo\; And\, a <em>Publisher&rsquo\;s Weekly </em>starred review stated\, &ldquo\;Empathetic\, bold\, and entirely herself at a time when women were dismissed as weak\, Drest shines in this fast-paced adventure.&rdquo\;</span></span><br />\n&nbsp\;<br />\n<span style="font-family:times new roman\,serif"><span style="font-size:14.0pt">Magras grew up on Mount Desert Island in Maine surrounded by woods\, cliffs\, and the sea. She lives in Maine with her husband and son and thinks often of Scotland\, where her books are set. Her next book\, &ldquo\;The Hunt for the Mad Wolf&rsquo\;s Daughter\,&rdquo\; will be published next year.</span></span><br />\n&nbsp\;<br />\n<span style="font-family:times new roman\,serif"><span style="font-size:14.0pt"><span>This talk is for children ages eight and up and is open to adults as well. Books will be on sale that morning courtesy of co-sponsor Sherman&rsquo\;s Books. For more information on Magras visit dianemagras.com and for more information on the talk contact the Jesup at <span class="gc-cs-link" id="gc-number-0" title="Call with Google Voice">207-288-4245</span> or </span><a href="mailto:mcorrion@jesuplibrary.org">mcorrion@jesuplibrary.org</a></span>. </span>
LOCATION:Jesup Memorial Library\, 34 Mt. Desert St.\, Bar Harbor\, ME 04609
UID:e.3061.3850
SEQUENCE:3
DTSTAMP:20260420T170734Z
URL:https://www.visitbarharbor.com/events/details/author-talk-and-book-signing-diane-magras-the-mad-wolf-s-daughter-3850
END:VEVENT

END:VCALENDAR
