BEGIN:VCALENDAR
VERSION:2.0
PRODID:-//ChamberMaster//Event Calendar 2.0//EN
METHOD:PUBLISH
X-PUBLISHED-TTL:P3D
REFRESH-INTERVAL:P3D
CALSCALE:GREGORIAN
BEGIN:VEVENT
DTSTART:20180620T223000Z
DTEND:20180621T000000Z
X-MICROSOFT-CDO-ALLDAYEVENT:FALSE
SUMMARY:Author Talk and Book Signing: Cornelia Cesari "Baker Island"
DESCRIPTION:Learn the history of Baker Island from the locals\, lightkeepers\, rusticators\, schoolteachers who lived on the island and their descendants in this first history of Baker Island\, "Images of America: Baker Island." Cornelia Cesari\, the author of the book\, as well as a part-time resident of Baker Island\, will be at the Jesup Memorial Library on Wednesday\, June 20 at 6:30 p.m. for the launch of the book. \n\n \n\nThe book covers the history of Baker Island\, from its settlement in 1806\, its use by the U.S. Government as a location for a lighthouse as well as a Signal Service facility\, to its popularity with rusticators\, to its decline and subsequent revival. Baker Island's population peaked at two dozen people but these 123 acres\, mostly part of Acadia National Park\, are special to many people. Cesari says she wrote her book because there was not a history of Baker Island\, "The truth is\, I wrote the book because I wanted to read it\, but it didn't exist. So I had to write it first."\n\n \n\nCesari is the president of the board of the Keepers of Baker Island\, which is an organization whose mission is to preserve\, protect\, and promote stewardship of Baker Island's natural and cultural resources\, for the enjoyment\, education and inspiration of visitors\, now and in the future. She splits her time between Baker Island and Vermont. \n\n \n\nBooks will be on sale that night courtesy of co-sponsor Sherman's Books and the talk is co-sponsored by Bar Harbor Bank & Trust. There will be a reception before the talk. For more information contact the Jesup at 207-288-4245 or mrice@jesuplibrary.org.
X-ALT-DESC;FMTTYPE=text/html:<span style="font-family:times new roman\,serif"><span style="font-size:14.0pt">Learn the history of Baker Island from the locals\, lightkeepers\, rusticators\, schoolteachers who lived on the island and their descendants in this first history of Baker Island\, &ldquo\;Images of America: Baker Island.&rdquo\; Cornelia Cesari\, the author of the book\, as well as a part-time resident of Baker Island\, will be at the Jesup Memorial Library on Wednesday\, June 20 at 6:30 p.m. for the launch of the book. </span></span><br />\n&nbsp\;<br />\n<span style="font-family:times new roman\,serif"><span style="font-size:14.0pt">The book covers the history of Baker Island\, from its settlement in 1806\, its use by the U.S. Government as a location for a lighthouse as well as a Signal Service facility\, to its popularity with rusticators\, to its decline and subsequent revival. Baker Island&rsquo\;s population peaked at two dozen people but these 123 acres\, mostly part of Acadia National Park\, are special to many people. Cesari says she wrote her book because there was not a history of Baker Island\, &ldquo\;The truth is\, I wrote the book because I wanted to read it\, but it didn&#39\;t exist. So I had to write it first.&rdquo\;</span></span><br />\n&nbsp\;<br />\n<span style="font-family:times new roman\,serif"><span style="font-size:14.0pt">Cesari is the president of the board of the Keepers of Baker Island\, which is an organization whose mission is to preserve\, protect\, and promote stewardship of Baker Island&#39\;s natural and cultural resources\, for the enjoyment\, education and inspiration of visitors\, now and in the future. She splits her time between Baker Island and Vermont. </span></span><br />\n&nbsp\;<br />\n<span style="font-family:times new roman\,serif"><span style="font-size:14.0pt">Books will be on sale that night courtesy of co-sponsor Sherman&rsquo\;s Books and the talk is co-sponsored by Bar Harbor Bank &amp\; Trust. There will be a reception before the talk. For more information contact the Jesup at 207-288-4245 or </span></span><a href="mailto:mrice@jesuplibrary.org"><span style="font-family:times new roman\,serif"><span style="font-size:14.0pt">mrice@jesuplibrary.org</span></span></a><span style="font-family:times new roman\,serif"><span style="font-size:14.0pt">. </span></span>
LOCATION:Jesup Memorial Library\, 34 Mt. Desert St.\, Bar Harbor\, ME 04609
UID:e.3061.2833
SEQUENCE:3
DTSTAMP:20260420T214430Z
URL:https://www.visitbarharbor.com/events/details/author-talk-and-book-signing-cornelia-cesari-baker-island-2833
END:VEVENT

END:VCALENDAR
