BEGIN:VCALENDAR
VERSION:2.0
PRODID:-//ChamberMaster//Event Calendar 2.0//EN
METHOD:PUBLISH
X-PUBLISHED-TTL:P3D
REFRESH-INTERVAL:P3D
CALSCALE:GREGORIAN
BEGIN:VEVENT
DTSTART:20180621T230000Z
DTEND:20180622T000000Z
X-MICROSOFT-CDO-ALLDAYEVENT:FALSE
SUMMARY:Author Talk and Book Signing: Christopher White "The Last Lobster: Boom or Bust for Maine’s Greatest Fishery?”
DESCRIPTION:In the last five years\, Maine lobstermen have annually caught more than 120 million pounds\, six times what was caught annually in the 1980's. But can this last? Join author Christopher White as he explores Maine's lobster industry at the Jesup Memorial Library on Thursday\, June 21 at 7 p.m. for an author talk and book signing for "The Last Lobster: Boom or Bust for Maine's Greatest Fishery?"\n\n \n\n"The Last Lobster" is a detective story\, where scientists and fishermen explore what is causing this increase in lobsters off the Mane coast. The two theories that stand out are a sudden lack of predators and a recent wedge of warming waters\, which may disrupt the reproductive cycle\, a consequence of climate change. However\, these same factors that may have stimulated the boom could prove to be its undoing. Ominously\, the range of lobsters is moving northward\, as it is for many marine species affected by climate change.\n\n \n\nOver the course of a year\, White follows three lobster captains Frank\, Jason\, and Julie as they haul and set thousands of traps off the coast of Stonington and fight a warming ocean\, volatile prices\, and rough weather to keep their livelihood afloat.  "The Last Lobster" is a celebration of the lobstermen of Maine and a warning that the recent boom and the possible coming bust could be stark lessons for all of us who live in a world of climate change.\n\n \n\nBooklist writes that "The Last Lobster" is "an in-depth look at the state's most significant fishery [...] Lobsters are intrinsically linked to the soul of Maine\, and White's thoughtful chronicle gives both the highly desired marine crustaceans and the people who seek them their due."\n\n \n\nChristopher White is a science writer and naturalist has written numerous books\, including "Skipjack: The Story of America's Last Sailing Oystermen" and "The Melting World: A Journey Across America's Vanishing Glaciers." His articles have appeared in Audubon\, The Baltimore Sun\, The New Mexican\, National Geographic\, and Exploration.  Early in his career\, White was a staff biologist for the Chesapeake Bay Foundation\, specializing in maritime issues. He also served as Executive Director of the Mare Nostrum Foundation\, a Belgium-based ocean policy organization. He grew up on the shores of the Chesapeake Bay.\n\n \n\nBooks will be on sale that night courtesy of co-sponsor Sherman's Books and the talk is co-sponsored by Bar Harbor Bank & Trust. \n\n \n\nFor more information on White visit christopherwhitebooks.com and for more information on the talk contact the Jesup at 207-288-4245 or mrice@jesuplibrary.org.
X-ALT-DESC;FMTTYPE=text/html:<span style="font-family:times new roman\,serif"><span style="font-size:14.0pt">In the last five years\, Maine lobstermen have annually caught more than 120 million pounds\, six times what was caught annually in the 1980&rsquo\;s. But can this last? Join author Christopher White as he explores Maine&rsquo\;s lobster industry at the Jesup Memorial Library on Thursday\, June 21 at 7 p.m. for an author talk and book signing for &ldquo\;The Last Lobster: Boom or Bust for Maine&rsquo\;s Greatest Fishery?&rdquo\;</span></span><br />\n&nbsp\;<br />\n<span style="font-family:times new roman\,serif"><span style="font-size:14.0pt">&ldquo\;The Last Lobster&rdquo\; is a detective story\, where scientists and fishermen explore what is causing this increase in lobsters off the Mane coast. The two theories that stand out are a sudden lack of predators and a recent wedge of warming waters\, which may disrupt the reproductive cycle\, a consequence of climate change. However\, these same factors that may have stimulated the boom could prove to be its undoing. Ominously\, the range of lobsters is moving northward\, as it is for many marine species affected by climate change.</span></span><br />\n&nbsp\;<br />\n<span style="font-family:times new roman\,serif"><span style="font-size:14.0pt">Over the course of a year\, White follows three lobster captains&mdash\;Frank\, Jason\, and Julie&mdash\;as they haul and set thousands of traps off the coast of Stonington and fight a warming ocean\, volatile prices\, and rough weather to keep their livelihood afloat.&nbsp\; &ldquo\;The Last Lobster&rdquo\; is a celebration of the lobstermen of Maine and a warning that the recent boom and the possible coming bust could be stark lessons for all of us who live in a world of climate change.</span></span><br />\n&nbsp\;<br />\n<em><span style="font-family:times new roman\,serif"><span style="font-size:14.0pt">Booklist </span></span></em><span style="font-family:times new roman\,serif"><span style="font-size:14.0pt">writes that &ldquo\;The Last Lobster&rdquo\; is &ldquo\;an in-depth look at the state&rsquo\;s most significant fishery [...] Lobsters are intrinsically linked to the soul of Maine\, and White&rsquo\;s thoughtful chronicle gives both the highly desired marine crustaceans and the people who seek them their due.&rdquo\;</span></span><br />\n&nbsp\;<br />\n<span style="font-family:times new roman\,serif"><span style="font-size:14.0pt">Christopher White is a science writer and naturalist has written numerous books\, including &ldquo\;Skipjack: The Story of America&rsquo\;s Last Sailing Oystermen&rdquo\; and &ldquo\;The Melting World: A Journey Across America&rsquo\;s Vanishing Glaciers.&rdquo\; His articles have appeared in <em>Audubon\, The Baltimore Sun\, The New Mexican\, National Geographic</em>\, and <em>Exploration</em>. &nbsp\;Early in his career\, White was a staff biologist for the Chesapeake Bay Foundation\, specializing in maritime issues. He also served as Executive Director of the Mare Nostrum Foundation\, a Belgium-based ocean policy organization. He grew up on the shores of the Chesapeake Bay.</span></span><br />\n&nbsp\;<br />\n<span style="font-family:times new roman\,serif"><span style="font-size:14.0pt">Books will be on sale that night courtesy of co-sponsor Sherman&rsquo\;s Books and the talk is co-sponsored by Bar Harbor Bank &amp\; Trust. </span></span><br />\n&nbsp\;<br />\n<span style="font-family:times new roman\,serif"><span style="font-size:14.0pt">For more information on White visit christopherwhitebooks.com and for more information on the talk contact the Jesup at 207-288-4245 or </span></span><a href="mailto:mrice@jesuplibrary.org"><span style="font-family:times new roman\,serif"><span style="font-size:14.0pt">mrice@jesuplibrary.org</span></span></a><span style="font-family:times new roman\,serif"><span style="font-size:14.0pt">.</span></span>
LOCATION:Jesup Memorial Library\, 34 Mt. Desert St.\, Bar Harbor\, ME 04609
UID:e.3061.2834
SEQUENCE:3
DTSTAMP:20260420T200624Z
URL:https://www.visitbarharbor.com/events/details/author-talk-and-book-signing-christopher-white-the-last-lobster-boom-or-bust-for-maine-s-greatest-fishery-2834
END:VEVENT

END:VCALENDAR
