BEGIN:VCALENDAR
VERSION:2.0
PRODID:-//ChamberMaster//Event Calendar 2.0//EN
METHOD:PUBLISH
X-PUBLISHED-TTL:P3D
REFRESH-INTERVAL:P3D
CALSCALE:GREGORIAN
BEGIN:VEVENT
DTSTART:20180614T230000Z
DTEND:20180615T000000Z
X-MICROSOFT-CDO-ALLDAYEVENT:FALSE
SUMMARY:Author Talk and Book Signing: Ben Emory "Sailor for the Wild: On Maine\, Conservation and Boats"
DESCRIPTION:Join author Ben Emory at the Jesup Memorial Library on Thursday\, June 14 at 7 p.m. for an author talk and book signing for his new book "Sailor for the Wild: On Maine\, Conservation and Boats." Emory recounts a lifetime of intertwined adventures on the water\, as well as his background in professional and volunteer land conservation. Shining through is the joy of Maine's ocean and landscape\, fascination with good boats\, dedication to conservation\, and observations about a changing world.\n\n \n\nIn his book\, Emory recounts the early history of the Maine Coast Heritage Trust (MCHT) as well as how it has evolved into the organization it is today. Emory was one of the original staff members of MCHT and served as the organizations third executive director. Emory also talks about Acadia National Park and his connections to it\, including his time on the Acadia National Park Advisory Commission. This partnership between Acadia and MCHT promoted conservation easements as a tool for preserving the scenic and natural qualities of islands near MDI which became the basis nationally heralded conservation easement program. Emory was a founding board member of the Land Trust Exchange (now Land Trust Alliance)\, which was headquartered on MDI when it first began. Emory also recounts his time spent on the water on and in around MDI. \n\n \n\nTim Glidden\, President of Maine Coast Heritage Trust\, writes that "Sailor for the Wild" is a "great history and warmly written! . . . from a player present at the birth of the modem conservation movement." And Anthony Irving\, Preservation Chair of the Lyme (CT) Land Conservation Trust and ocean sailor\, adds "as one of Maine's pioneers for the land trust movement\, Ben Emory's historical perspective in 'Sailor for the Wild' is both enlightening and."\n\n \n\nBooks will be on sale that night courtesy of co-sponsor Sherman's Books and the talk is co-sponsored by Bar Harbor Bank & Trust. For more information on the talk contact the Jesup at 207-288-4245 or mrice@jesuplibrary.org.
X-ALT-DESC;FMTTYPE=text/html:<span style="font-family:times new roman\,serif"><span style="font-size:14.0pt">Join author Ben Emory at the Jesup Memorial Library on Thursday\, June 14 at 7 p.m. for an author talk and book signing for his new book &ldquo\;Sailor for the Wild: On Maine\, Conservation and Boats.&rdquo\; Emory recounts a lifetime of intertwined adventures on the water\, as well as his background in professional and volunteer land conservation. Shining through is the joy of Maine&rsquo\;s ocean and landscape\, fascination with good boats\, dedication to conservation\, and observations about a changing world.</span></span><br />\n&nbsp\;<br />\n<span style="font-family:times new roman\,serif"><span style="font-size:14.0pt">In his book\, Emory recounts the early history of the Maine Coast Heritage Trust (MCHT) as well as how it has evolved into the organization it is today. Emory was one of the original staff members of MCHT and served as the organizations third executive director. Emory also talks about Acadia National Park and his connections to it\, including his time on the Acadia National Park Advisory Commission. This partnership between Acadia and MCHT promoted conservation easements as a tool for preserving the scenic and natural qualities of islands near MDI which became the basis nationally heralded conservation easement program. Emory was a founding board member of the Land Trust Exchange (now Land Trust Alliance)\, which was headquartered on MDI when it first began. Emory also recounts his time spent on the water on and in around MDI. </span></span><br />\n&nbsp\;<br />\n<span style="font-family:times new roman\,serif"><span style="font-size:14.0pt">Tim Glidden\, President of Maine Coast Heritage Trust\, writes that &ldquo\;Sailor for the Wild&rdquo\; is a &ldquo\;great history and warmly written! . . . from a player present at the birth of the modem conservation movement.&rdquo\; And Anthony Irving\, Preservation Chair of the Lyme (CT) Land Conservation Trust and ocean sailor\, adds &ldquo\;as one of Maine&#39\;s pioneers for the land trust movement\, Ben Emory&#39\;s historical perspective in &lsquo\;Sailor for the Wild&rsquo\; is both enlightening and.&rdquo\;</span></span><br />\n&nbsp\;<br />\n<span style="font-family:times new roman\,serif"><span style="font-size:14.0pt">Books will be on sale that night courtesy of co-sponsor Sherman&rsquo\;s Books and the talk is co-sponsored by Bar Harbor Bank &amp\; Trust. For more information on the talk contact the Jesup at 207-288-4245 or </span></span><a href="mailto:mrice@jesuplibrary.org"><span style="font-family:times new roman\,serif"><span style="font-size:14.0pt">mrice@jesuplibrary.org</span></span></a><span style="font-family:times new roman\,serif"><span style="font-size:14.0pt">. </span></span>
LOCATION:Jesup Memorial Library\, 34 Mt. Desert St.\, Bar Harbor\, ME 04609
UID:e.3061.2830
SEQUENCE:3
DTSTAMP:20260420T200625Z
URL:https://www.visitbarharbor.com/events/details/author-talk-and-book-signing-ben-emory-sailor-for-the-wild-on-maine-conservation-and-boats-2830
END:VEVENT

END:VCALENDAR
