BEGIN:VCALENDAR
VERSION:2.0
PRODID:-//ChamberMaster//Event Calendar 2.0//EN
METHOD:PUBLISH
X-PUBLISHED-TTL:P3D
REFRESH-INTERVAL:P3D
CALSCALE:GREGORIAN
BEGIN:VEVENT
DTSTART;VALUE=DATE:20180605
DTEND;VALUE=DATE:20180606
TRANSP:TRANSPARENT
X-MICROSOFT-CDO-ALLDAYEVENT:TRUE
SUMMARY:ArtWaves instructors exhibit at SWH Library
DESCRIPTION:community to experience and create art\, will hang at the Southwest Harbor Public Library during the month of June. For more information\, call 207-266-0010\, visit www.artwavesmdi.org\, or contact the Library: 244-7065.
X-ALT-DESC;FMTTYPE=text/html:community to experience and create art\, will hang at the Southwest Harbor Public Library during the month of June. For more information\, call 207-266-0010\, visit www.artwavesmdi.org\, or contact the Library: 244-7065.
LOCATION:Southwest Harbor Public Library
UID:e.3061.2766
SEQUENCE:3
DTSTAMP:20260420T195925Z
URL:https://www.visitbarharbor.com/events/details/artwaves-instructors-exhibit-at-swh-library-06-05-2018-2766
END:VEVENT

END:VCALENDAR
