BEGIN:VCALENDAR
VERSION:2.0
PRODID:-//ChamberMaster//Event Calendar 2.0//EN
METHOD:PUBLISH
X-PUBLISHED-TTL:P3D
REFRESH-INTERVAL:P3D
CALSCALE:GREGORIAN
BEGIN:VEVENT
DTSTART:20190802T170000Z
DTEND:20190802T200000Z
X-MICROSOFT-CDO-ALLDAYEVENT:FALSE
SUMMARY:Arts and Dance Workshop for Kids
DESCRIPTION:For ages 8-18\n\nKids\, would you like to improve your drawing & painting skills?\n\nPets\, cars\, people\, landscapes\, or something totally from your imagination! Come to this class to learn how artists like Van Gogh created masterpieces in drawing and painting.\n\nWe will cover color mixing\, using perspective to show space\, shading\, or whatever YOU want to improve with your art skills. \n\nWe are relaxed and everyone works at their own pace on their own project.\n\nCome to one class\, or come weekly!\n\nMembers get a $10 discount per workshop!
X-ALT-DESC;FMTTYPE=text/html:<span style="background-color:rgb(254\, 253\, 253)\; color:rgb(46\, 46\, 46)\; font-family:open sans\; font-size:15.4px">For ages 8-18</span><br />\n<span style="background-color:rgb(254\, 253\, 253)\; color:rgb(46\, 46\, 46)\; font-family:open sans\; font-size:15.4px">Kids\, would you like to improve your drawing &amp\; painting skills?</span><br />\n<span style="background-color:rgb(254\, 253\, 253)\; color:rgb(46\, 46\, 46)\; font-family:open sans\; font-size:15.4px">Pets\, cars\, people\, landscapes\, or something totally from your imagination! Come to this class to learn how artists like Van Gogh created masterpieces in drawing and painting.</span><br />\n<span style="background-color:rgb(254\, 253\, 253)\; color:rgb(46\, 46\, 46)\; font-family:open sans\; font-size:15.4px">We will cover color mixing\, using perspective to show space\, shading\, or whatever YOU want to improve with your art skills. </span><br />\n<span style="background-color:rgb(254\, 253\, 253)\; color:rgb(46\, 46\, 46)\; font-family:open sans\; font-size:15.4px">We are relaxed and everyone works at their own pace on their own project.</span><br />\n<span style="background-color:rgb(254\, 253\, 253)\; color:rgb(46\, 46\, 46)\; font-family:open sans\; font-size:15.4px">Come to one class\, or come weekly!<br />\nMembers get a $10 discount per workshop!</span>
LOCATION:ArtWaves\, Maine 102 1345 Bar Harbor 04609
UID:e.3061.14233
SEQUENCE:3
DTSTAMP:20260419T192833Z
URL:https://www.visitbarharbor.com/events/details/arts-and-dance-workshop-for-kids-08-02-2019-14233
END:VEVENT

END:VCALENDAR
