BEGIN:VCALENDAR
VERSION:2.0
PRODID:-//ChamberMaster//Event Calendar 2.0//EN
METHOD:PUBLISH
X-PUBLISHED-TTL:P3D
REFRESH-INTERVAL:P3D
CALSCALE:GREGORIAN
BEGIN:VEVENT
DTSTART:20180821T210000Z
DTEND:20180821T230000Z
X-MICROSOFT-CDO-ALLDAYEVENT:FALSE
SUMMARY:Artists Reception: Jordan Chalfant and Amy Gagnon\, Wendell Gilley's Birthday Celebration
DESCRIPTION:Join us to celebrate local artists Jordan Chalfant and Amy Gagnon! Come meet the artists and hear them speak about their art\, view their exceptional work\, and enjoy refreshments. All are welcome\, and admission is free.
X-ALT-DESC;FMTTYPE=text/html:Join us to celebrate local artists Jordan Chalfant and Amy Gagnon! Come meet the artists and hear them speak about their art\, view their exceptional work\, and enjoy refreshments. All are welcome\, and admission is free.
LOCATION:Wendell Gilley Museum 4 Herrick Rd Southwest Harbor\, ME 04679
UID:e.3061.3525
SEQUENCE:3
DTSTAMP:20260420T170803Z
URL:https://www.visitbarharbor.com/events/details/artists-reception-jordan-chalfant-and-amy-gagnon-wendell-gilley-s-birthday-celebration-3525
END:VEVENT

END:VCALENDAR
