BEGIN:VCALENDAR
VERSION:2.0
PRODID:-//ChamberMaster//Event Calendar 2.0//EN
METHOD:PUBLISH
X-PUBLISHED-TTL:P3D
REFRESH-INTERVAL:P3D
CALSCALE:GREGORIAN
BEGIN:VEVENT
DTSTART:20180707T173000Z
DTEND:20180707T183000Z
X-MICROSOFT-CDO-ALLDAYEVENT:FALSE
SUMMARY:“Art Speaks Where Words Fail” Art Show Opening
DESCRIPTION:See the artwork of residents from Birch Bay Retirement Village's specialized memory care neighborhood\, Safe Harbor\, as well as members of the Don & Beth Straus Adult Day Program during the month of July at the Jesup Memorial Library. The show "Art Speaks Where Words Fail\," features knitted baskets\, paintings\, guitars\, mobiles\, poetry and sun-catchers all created by residents. There will also be a special reception in honor of the artists at the library on Saturday\, July 7 at 1:30 p.m. \n\n \n\nDirector\, Peter Sullivan\, Executive Director of Birch Bay says\, "Birch Bay's Life Enrichment program gives residents with memory impairments a chance to continue to lead purposeful lives and do meaningful activities that they enjoy. This art show is a chance to celebrate what they can do. Through the process of creating art\, resident's anxiety is lessened\, so it has therapeutic benefits as well."\n\n \n\n"Art Speaks Where Words Fail" is part of the Age By Design series which is co-sponsored by the Jesup\, Island Connections\, the YWCA MDI and the Mount Desert Island YMCA. \n\n \n\nFor more information on the Birch Bay Retirement Village\, please visit www.birchbayvillage.us or contact Susanne Hopkins at 207-288-8014. For more information this program\, contact the Jesup at 207-288-4245 or mrice@jesuplibrary.org.
X-ALT-DESC;FMTTYPE=text/html:<span style="font-family:times new roman\,serif"><span style="font-size:14.0pt">See the artwork of residents from Birch Bay Retirement Village&rsquo\;s specialized memory care neighborhood\, Safe Harbor\, as well as members of the Don &amp\; Beth Straus Adult Day Program during the month of July at the Jesup Memorial Library. The show &ldquo\;Art Speaks Where Words Fail\,&rdquo\; features knitted baskets\, paintings\, guitars\, mobiles\, poetry and sun-catchers all created by residents. There will also be a special reception in honor of the artists at the library on Saturday\, July 7 at 1:30 p.m. </span></span><br />\n&nbsp\;<br />\n<span style="font-family:times new roman\,serif"><span style="font-size:14.0pt">Director\, Peter Sullivan\, Executive Director of Birch Bay says\, &ldquo\;Birch Bay&rsquo\;s Life Enrichment program gives residents with memory impairments a chance to continue to lead purposeful lives and do meaningful activities that they enjoy. This art show is a chance to celebrate what they can do. Through the process of creating art\, resident&rsquo\;s anxiety is lessened\, so it has therapeutic benefits as well.&rdquo\;</span></span><br />\n&nbsp\;<br />\n<span style="font-family:times new roman\,serif"><span style="font-size:14.0pt">&ldquo\;Art Speaks Where Words Fail&rdquo\; is part of the Age By Design series which is co-sponsored by the Jesup\, Island Connections\, the YWCA MDI and the Mount Desert Island YMCA. </span></span><br />\n&nbsp\;<br />\n<span style="font-family:times new roman\,serif"><span style="font-size:14.0pt">For more information on the Birch Bay Retirement Village\, please visit www.birchbayvillage.us or contact Susanne Hopkins at 207-288-8014. For more information this program\, contact the Jesup at 207-288-4245 or <a href="mailto:mrice@jesuplibrary.org">mrice@jesuplibrary.org</a>. </span></span>
LOCATION:Jesup Memorial Library\, 34 Mt. Desert St.\, Bar Harbor\, ME 04609
UID:e.3061.3012
SEQUENCE:3
DTSTAMP:20260420T182842Z
URL:https://www.visitbarharbor.com/events/details/art-speaks-where-words-fail-art-show-opening-3012
END:VEVENT

END:VCALENDAR
