BEGIN:VCALENDAR
VERSION:2.0
PRODID:-//ChamberMaster//Event Calendar 2.0//EN
METHOD:PUBLISH
X-PUBLISHED-TTL:P3D
REFRESH-INTERVAL:P3D
CALSCALE:GREGORIAN
BEGIN:VEVENT
DTSTART:20190302T180000Z
DTEND:20190302T210000Z
X-MICROSOFT-CDO-ALLDAYEVENT:FALSE
SUMMARY:Art Of Batik
DESCRIPTION:Instructor: Kate Stitham\n\nSaturday March 2 1-4 PM\n\nBatik is an ancient technique of wax-resist dyeing applied to cloth that originated in southeast Asia. Learn the basics of Batik in this month-long workshop series. We will dive into the step by-step process of wax manipulation and dyes in order to create our own beautiful fabrics. Everything is included for quite an afternoon of color!
X-ALT-DESC;FMTTYPE=text/html:<pre>\n&nbsp\;</pre>\n\n<p>Instructor: Kate Stitham</p>\n\n<p>Saturday March 2 1-4 PM</p>\n\n<p>Batik is an ancient technique of wax-resist dyeing applied to cloth that originated in southeast Asia. Learn the basics of Batik in this month-long workshop series. We will dive into the step by-step process of wax manipulation and dyes in order to create our own beautiful fabrics. Everything is included for quite an afternoon of color!</p>\n
LOCATION:ArtWaves 1345 State highway 102 Village of Town Hill \, Bar Harbor ME
UID:e.3061.5359
SEQUENCE:3
DTSTAMP:20260420T043142Z
URL:https://www.visitbarharbor.com/events/details/art-of-batik-5359
END:VEVENT

END:VCALENDAR
