BEGIN:VCALENDAR
VERSION:2.0
PRODID:-//ChamberMaster//Event Calendar 2.0//EN
METHOD:PUBLISH
X-PUBLISHED-TTL:P3D
REFRESH-INTERVAL:P3D
CALSCALE:GREGORIAN
BEGIN:VEVENT
DTSTART:20190302T150000Z
DTEND:20190302T163000Z
X-MICROSOFT-CDO-ALLDAYEVENT:FALSE
SUMMARY:Arctic Tern: Family Program at the Gilley
DESCRIPTION:The Gilley is still looking for young artists! Join us this Saturday morning\, March 3\, at 10am to create Arctic Tern Silhouettes in your own style! Need some inspiration? Check out this painted silhouette by Steve Valleau\, our carver-on-staff! Completed works can be entered in the Youth Division of the annual Ward World Championship Wildfowl Carving Competition\, held at the Ward Museum on Maryland's eastern shore. For youth 10 and above.
X-ALT-DESC;FMTTYPE=text/html:The Gilley is still looking for young artists! Join us this Saturday morning\, March 3\, at 10am to create Arctic Tern Silhouettes in your own style! Need some inspiration? Check out this painted silhouette by Steve Valleau\, our carver-on-staff! Completed works can be entered in the Youth Division of the annual Ward World Championship Wildfowl Carving Competition\, held at the Ward Museum on Maryland&rsquo\;s eastern shore. For youth 10 and above.
LOCATION:Wendell Gilley Museum 4 Herrick Rd\, Southwest Harbor
UID:e.3061.5364
SEQUENCE:3
DTSTAMP:20260420T043011Z
URL:https://www.visitbarharbor.com/events/details/arctic-tern-family-program-at-the-gilley-5364
END:VEVENT

END:VCALENDAR
