BEGIN:VCALENDAR
VERSION:2.0
PRODID:-//ChamberMaster//Event Calendar 2.0//EN
METHOD:PUBLISH
X-PUBLISHED-TTL:P3D
REFRESH-INTERVAL:P3D
CALSCALE:GREGORIAN
BEGIN:VEVENT
DTSTART:20180929T180000Z
DTEND:20180929T190000Z
X-MICROSOFT-CDO-ALLDAYEVENT:FALSE
SUMMARY:Antonio Rocha's Kaleidescopia
DESCRIPTION:Welcome to Antonio Rocha's world of mime\, sound effects\, zany characters\, physical comedy and one of a kind storytelling. You will be spellbound by realistic sound effects\, poetic movement and unique characters in one of a kind situations. This performance showcases Antonio's versatile talents for silent and spoken works. Part of the inaugural Criterion Theatre for Young Audiences Festival
X-ALT-DESC;FMTTYPE=text/html:Welcome to Antonio Rocha&#39\;s world of mime\, sound effects\, zany characters\, physical comedy and one of a kind storytelling. You will be spellbound by realistic sound effects\, poetic movement and unique characters in one of a kind situations. This performance showcases Antonio&rsquo\;s versatile talents for silent and spoken works. Part of the inaugural Criterion Theatre for Young Audiences Festival
LOCATION:1932 Criterion Theatre 35 Cottage St\, Bar Harbor
UID:e.3061.3857
SEQUENCE:3
DTSTAMP:20260420T145934Z
URL:https://www.visitbarharbor.com/events/details/antonio-rocha-s-kaleidescopia-3857
END:VEVENT

END:VCALENDAR
