BEGIN:VCALENDAR
VERSION:2.0
PRODID:-//ChamberMaster//Event Calendar 2.0//EN
METHOD:PUBLISH
X-PUBLISHED-TTL:P3D
REFRESH-INTERVAL:P3D
CALSCALE:GREGORIAN
BEGIN:VEVENT
DTSTART:20181221T230000Z
DTEND:20181222T003000Z
X-MICROSOFT-CDO-ALLDAYEVENT:FALSE
SUMMARY:Annual Living Nativity To Be On DIsplay
DESCRIPTION:Bar Harbor Congregational Church To Display Living Nativity On December 20 and 21 The Bar Harbor Congregational Church\, located at 29 Mount Desert Street in Bar Harbor\, will offer their gift of the Living Nativity on Thursday\, December 20th and Friday\, December 21st from 6:00   7:30 pm. For over 40 years\, this annual tradition has depicted biblical characters at the time of the birth of Jesus. Come with family and friends\, and stop to ponder the true meaning of Christmas.
X-ALT-DESC;FMTTYPE=text/html:Bar Harbor Congregational Church To Display Living Nativity On December 20 and 21 The Bar Harbor Congregational Church\, located at 29 Mount Desert Street in Bar Harbor\, will offer their gift of the Living Nativity on Thursday\, December 20th and Friday\, December 21st from 6:00 &ndash\; 7:30 pm. For over 40 years\, this annual tradition has depicted biblical characters at the time of the birth of Jesus. Come with family and friends\, and stop to ponder the true meaning of Christmas.
LOCATION:29 Mount Desert Street\, Bar Harbor
UID:e.3061.4800
SEQUENCE:3
DTSTAMP:20260420T100620Z
URL:https://www.visitbarharbor.com/events/details/annual-living-nativity-to-be-on-display-12-21-2018-4800
END:VEVENT

END:VCALENDAR
