BEGIN:VCALENDAR
VERSION:2.0
PRODID:-//ChamberMaster//Event Calendar 2.0//EN
METHOD:PUBLISH
X-PUBLISHED-TTL:P3D
REFRESH-INTERVAL:P3D
CALSCALE:GREGORIAN
BEGIN:VEVENT
DTSTART:20190202T180000Z
DTEND:20190202T190000Z
X-MICROSOFT-CDO-ALLDAYEVENT:FALSE
SUMMARY:Anime Your Way Drawing Workshop with Carlos Nieto III
DESCRIPTION:Learn how to draw anime in a hands-on workshop with animator Carlos Nieto III at the Jesup Memorial Library on Saturday\, Feb. 2 at 1 p.m. Nieto has worked on both "The Simpsons" and "King of the Hill" as a layout artist and as a Visual Consultant for Disney and Universal creating sketches and final art for set designs. \n\n \n\nThis event is geared towards tweens and teens who want to learn more about drawing anime and is great for those with a drawing background and even for those who think they cannot draw at all. Nieto will walk you through practical tips for drawing anime and by the end of the workshop you will have created your own original anime character. \n\n \n\nNieto was born and raised in Los Angeles. Growing in the Hispanic area of Silverlake/Echo Park\, he was influenced by the mish mash of Central American and South American cultures. He is a mostly self-taught artist\, only having taken some basic classes of art in high school\, and several night classes at various colleges. He currently works with children and families at Children's Hospital Los Angeles as an Artist in Residence\, providing them with an artistic escape from the anxiety and stress of being in a hospital. He also travels the country teaching anime and animation workshops.\n\n \n\nRegistration for this event is required. To register call the Jesup at 207-288-4245 or email mcorrion@jesuplibrary.org. To find out more about Nieto visit animeyourway.com.
X-ALT-DESC;FMTTYPE=text/html:<span style="font-family:times new roman\,serif"><span style="font-size:14.0pt">Learn how to draw anime in a hands-on workshop with animator Carlos Nieto III at the Jesup Memorial Library on Saturday\, Feb. 2 at 1 p.m. Nieto has worked on both &ldquo\;The Simpsons&rdquo\; and &ldquo\;King of the Hill&rdquo\; as a layout artist and as a Visual Consultant for Disney and Universal creating sketches and final art for set designs. </span></span><br />\n&nbsp\;<br />\n<span style="font-family:times new roman\,serif"><span style="font-size:14.0pt">This event is geared towards tweens and teens who want to learn more about drawing anime and is great for those with a drawing background and even for those who think they cannot draw at all. Nieto will walk you through practical tips for drawing anime and by the end of the workshop you will have created your own original anime character. </span></span><br />\n&nbsp\;<br />\n<span style="font-family:times new roman\,serif"><span style="font-size:14.0pt">Nieto was born and raised in Los Angeles. Growing in the Hispanic area of Silverlake/Echo Park\, he was influenced by the mish mash of Central American and South American cultures. He is a mostly self-taught artist\, only having taken some basic classes of art in high school\, and several night classes at various colleges. He currently works with children and families at Children&rsquo\;s Hospital Los Angeles as an Artist in Residence\, providing them with an artistic escape from the anxiety and stress of being in a hospital. He also travels the country teaching anime and animation workshops.</span></span><br />\n&nbsp\;<br />\n<span style="font-family:times new roman\,serif"><span style="font-size:14.0pt"><span>Registration for this event is required. To register call the Jesup at <span class="gc-cs-link" id="gc-number-0" title="Call with Google Voice">207-288-4245</span> or email </span><a href="mailto:mcorrion@jesuplibrary.org">mcorrion@jesuplibrary.org</a></span>. To find out more about Nieto visit animeyourway.com. </span>
LOCATION:Jesup Memorial Library\, 34 Mt. Desert St.\, Bar Harbor\, ME 04609
UID:e.3061.4899
SEQUENCE:3
DTSTAMP:20260420T062917Z
URL:https://www.visitbarharbor.com/events/details/anime-your-way-drawing-workshop-with-carlos-nieto-iii-4899
END:VEVENT

END:VCALENDAR
