BEGIN:VCALENDAR
VERSION:2.0
PRODID:-//ChamberMaster//Event Calendar 2.0//EN
METHOD:PUBLISH
X-PUBLISHED-TTL:P3D
REFRESH-INTERVAL:P3D
CALSCALE:GREGORIAN
BEGIN:VEVENT
DTSTART:20180615T190000Z
DTEND:20180615T210000Z
X-MICROSOFT-CDO-ALLDAYEVENT:FALSE
SUMMARY:Anchorspace Professional Development Workshop for June: Facebook for your Business
DESCRIPTION:MONTHLY PROFESSIONAL DEVELOPMENT WORKSHOP FOR JUNE: FACEBOOK FOR YOUR BUSINESS Friday June 15th\, 2018 3-5 PM at Anchorspace $25 per person\, free for Anchorspace members Today\, everyone has a Facebook page\, but are you leveraging the world's most popular website effectively or are you getting bogged down by your page? Are those likes and shares actually leading to sales? Are you spending too much time administering and monitoring your page? Are there Facebooks apps that will help your business? Do you need to boost posts or place ads? Join Breaking Even Communications founder Nicole Ouellette to learn what your Facebook page can do for your business.
X-ALT-DESC;FMTTYPE=text/html:MONTHLY PROFESSIONAL DEVELOPMENT WORKSHOP FOR JUNE: FACEBOOK FOR YOUR BUSINESS Friday June 15th\, 2018 3-5 PM at Anchorspace $25 per person\, free for Anchorspace members Today\, everyone has a Facebook page\, but are you leveraging the world&rsquo\;s most popular website effectively or are you getting bogged down by your page? Are those likes and shares actually leading to sales? Are you spending too much time administering and monitoring your page? Are there Facebooks apps that will help your business? Do you need to boost posts or place ads? Join Breaking Even Communications founder Nicole Ouellette to learn what your Facebook page can do for your business.
LOCATION:Anchorspace\, 337 Main Street Bar Harbor ME 04609
UID:e.3061.2524
SEQUENCE:3
DTSTAMP:20260420T214225Z
URL:https://www.visitbarharbor.com/events/details/anchorspace-professional-development-workshop-for-june-facebook-for-your-business-2524
END:VEVENT

END:VCALENDAR
