BEGIN:VCALENDAR
VERSION:2.0
PRODID:-//ChamberMaster//Event Calendar 2.0//EN
METHOD:PUBLISH
X-PUBLISHED-TTL:P3D
REFRESH-INTERVAL:P3D
CALSCALE:GREGORIAN
BEGIN:VEVENT
DTSTART:20191002T000000Z
DTEND:20191002T020000Z
X-MICROSOFT-CDO-ALLDAYEVENT:FALSE
SUMMARY:An Intimate Evening of Songs and Stories with Graham Nash
DESCRIPTION:Legendary artist Graham Nash is a two-time Rock and Roll Hall of Fame inductee - with Crosby\, Stills\, and Nash and with the Hollies. He was also inducted twice into the Songwriter's Hall of Fame\, as a solo artist and with CSN\, and he is a GRAMMY Award winner. Towering above virtually everything that Graham Nash has accomplished in his multi-faceted career stands the litany of songs that he has written and introduced to the soundtrack of the past half-century. His remarkable body of work\, beginning with his contributions to the Hollies opus\, including "On a Carousel" and "Carrie Anne\," continues all the way to This Path Tonight(2016)\, his most recent solo album. The original classic union of Crosby\, Stills & Nash (& Young) lasted but twenty months. Yet their songs are lightning rods embedded in our DNA\, starting with Nash's "Marrakesh Express\," and "Lady of the Island\," from the first Crosby\, Stills & Nash LP (1969)\, and "Teach Your Children" and "Our House" on CSNY's D j  Vu (1970). Nash's solo career debuted with Songs For Beginners(1971)\, which included "Chicago/We Can Change the World" and "Military Madness" and others. In addition to his string of solo albums\, he has performed and recorded with David Crosby as Crosby/Nash. Their eponymously titled Graham Nash/David Crosby(1972)\, is bookended by Nash's "Southbound Train" and "Immigration Man". Nash's passionate voice has often been heard in support of peace\, and social and environmental justice. During this tour\, Nash is partnering with Musicians United for Safe Energy (M.U.S.E.) to raise funds with a special charity ticket (see below).
X-ALT-DESC;FMTTYPE=text/html:Legendary artist Graham Nash is a two-time Rock and Roll Hall of Fame inductee - with Crosby\, Stills\, and Nash and with the Hollies. He was also inducted twice into the Songwriter&#39\;s Hall of Fame\, as a solo artist and with CSN\, and he is a GRAMMY Award winner. Towering above virtually everything that Graham Nash has accomplished in his multi-faceted career stands the litany of songs that he has written and introduced to the soundtrack of the past half-century. His remarkable body of work\, beginning with his contributions to the Hollies opus\, including &ldquo\;On a Carousel&rdquo\; and &ldquo\;Carrie Anne\,&rdquo\; continues all the way to This Path Tonight(2016)\, his most recent solo album. The original classic union of Crosby\, Stills &amp\; Nash (&amp\; Young) lasted but twenty months. Yet their songs are lightning rods embedded in our DNA\, starting with Nash&rsquo\;s &ldquo\;Marrakesh Express\,&rdquo\; and &ldquo\;Lady of the Island\,&rdquo\; from the first Crosby\, Stills &amp\; Nash LP (1969)\, and &ldquo\;Teach Your Children&rdquo\; and &ldquo\;Our House&rdquo\; on CSNY&rsquo\;s D&eacute\;j&agrave\; Vu (1970). Nash&rsquo\;s solo career debuted with Songs For Beginners(1971)\, which included &ldquo\;Chicago/We Can Change the World&rdquo\; and &ldquo\;Military Madness&rdquo\; and others. In addition to his string of solo albums\, he has performed and recorded with David Crosby as Crosby/Nash. Their eponymously titled Graham Nash/David Crosby(1972)\, is bookended by Nash&rsquo\;s &ldquo\;Southbound Train&rdquo\; and &ldquo\;Immigration Man&rdquo\;. Nash&rsquo\;s passionate voice has often been heard in support of peace\, and social and environmental justice. During this tour\, Nash is partnering with Musicians United for Safe Energy (M.U.S.E.) to raise funds with a special charity ticket (see below).
LOCATION:1932 Criterion Theatre 35 Cottage Street Bar Harbor\, ME 04609
UID:e.3061.14250
SEQUENCE:3
DTSTAMP:20260419T160325Z
URL:https://www.visitbarharbor.com/events/details/an-intimate-evening-of-songs-and-stories-with-graham-nash-14250
END:VEVENT

END:VCALENDAR
