BEGIN:VCALENDAR
VERSION:2.0
PRODID:-//ChamberMaster//Event Calendar 2.0//EN
METHOD:PUBLISH
X-PUBLISHED-TTL:P3D
REFRESH-INTERVAL:P3D
CALSCALE:GREGORIAN
BEGIN:VEVENT
DTSTART:20190415T000000Z
DTEND:20190415T014500Z
X-MICROSOFT-CDO-ALLDAYEVENT:FALSE
SUMMARY:An Evening with Lorrie Morgan
DESCRIPTION:One of the most eloquently emotive country vocalists of modern times is performing in Bar Harbor for one night only. Lorrie Morgan\, the first woman in her genre to begin her career with three consecutive Platinum albums will illuminate the Criterion stage with her lustrous vocal phrasing and the down-to-earth believability of her torchy performances. "Where I am in my life right now\, I'm not afraid to express what I feel\, or what I don't feel\," Lorrie comments about her music's range. "I'm not afraid to express my views on anything\, especially on being a woman." Lorrie Morgan is a Nashville native and the daughter of Country Music Hall of Fame member George Morgan. She made her debut on the Grand Ole Opry stage at age 13\, singing "Paper Roses\," and has been innovating Country Music ever since.
X-ALT-DESC;FMTTYPE=text/html:One of the most eloquently emotive country vocalists of modern times is performing in Bar Harbor for one night only. Lorrie Morgan\, the first woman in her genre to begin her career with three consecutive Platinum albums will illuminate the Criterion stage with her lustrous vocal phrasing and the down-to-earth believability of her torchy performances. &ldquo\;Where I am in my life right now\, I&rsquo\;m not afraid to express what I feel\, or what I don&rsquo\;t feel\,&rdquo\; Lorrie comments about her music&rsquo\;s range. &ldquo\;I&rsquo\;m not afraid to express my views on anything\, especially on being a woman.&rdquo\; Lorrie Morgan is a Nashville native and the daughter of Country Music Hall of Fame member George Morgan. She made her debut on the Grand Ole Opry stage at age 13\, singing &ldquo\;Paper Roses\,&rdquo\; and has been innovating Country Music ever since.
LOCATION:1932 Criterion Theatre 35 Cottage Street Bar Harbor\, ME 04609
UID:e.3061.5129
SEQUENCE:3
DTSTAMP:20260420T031418Z
URL:https://www.visitbarharbor.com/events/details/an-evening-with-lorrie-morgan-5129
END:VEVENT

END:VCALENDAR
