BEGIN:VCALENDAR
VERSION:2.0
PRODID:-//ChamberMaster//Event Calendar 2.0//EN
METHOD:PUBLISH
X-PUBLISHED-TTL:P3D
REFRESH-INTERVAL:P3D
CALSCALE:GREGORIAN
BEGIN:VEVENT
DTSTART:20190127T003000Z
DTEND:20190127T023000Z
X-MICROSOFT-CDO-ALLDAYEVENT:FALSE
SUMMARY:An Evening With David Mallett
DESCRIPTION:Saturday\, January 26th at 7:30 pm David Mallett hails from a small town in northern Maine\, and in a career that spans four decades\, his music has traveled to all corners of the world. His songs have been recorded by more than 150 artists\, including Pete Seeger\, Alison Krauss\, John Denver\, Emmylou Harris\, and even the Muppets\, and his "Garden Song" has become an American folk classic. He has performed in town halls and folk clubs across America and Europe in addition to major venues such as Barns of Wolf Trap\, Newport Folk Festival\, and "Prairie Home Companion". The Bangor Daily News recognized him as one of the 58 most memorable Mainers of the 20th Century. "Mallett is a first-rate folk singer and writer. His portraits and townscapes are camera sharp\, and his knowledge of his subjects is profound." -- Billboard $25 Balcony $25 Front & Center Orchestra $18 Orchestra Standard www.criteriontheatre.org
X-ALT-DESC;FMTTYPE=text/html:Saturday\, January 26th at 7:30 pm David Mallett hails from a small town in northern Maine\, and in a career that spans four decades\, his music has traveled to all corners of the world. His songs have been recorded by more than 150 artists\, including Pete Seeger\, Alison Krauss\, John Denver\, Emmylou Harris\, and even the Muppets\, and his &quot\;Garden Song&quot\; has become an American folk classic. He has performed in town halls and folk clubs across America and Europe in addition to major venues such as Barns of Wolf Trap\, Newport Folk Festival\, and &quot\;Prairie Home Companion&quot\;. The Bangor Daily News recognized him as one of the 58 most memorable Mainers of the 20th Century. &quot\;Mallett is a first-rate folk singer and writer. His portraits and townscapes are camera sharp\, and his knowledge of his subjects is profound.&quot\; -- Billboard $25 Balcony $25 Front &amp\; Center Orchestra $18 Orchestra Standard www.criteriontheatre.org
LOCATION:Criterion Theatre 35 Cottage St. Bar Harbor\, ME
UID:e.3061.4862
SEQUENCE:3
DTSTAMP:20260420T081448Z
URL:https://www.visitbarharbor.com/events/details/an-evening-with-david-mallett-4862
END:VEVENT

END:VCALENDAR
