BEGIN:VCALENDAR
VERSION:2.0
PRODID:-//ChamberMaster//Event Calendar 2.0//EN
METHOD:PUBLISH
X-PUBLISHED-TTL:P3D
REFRESH-INTERVAL:P3D
CALSCALE:GREGORIAN
BEGIN:VEVENT
DTSTART:20180802T170000Z
DTEND:20180802T183000Z
X-MICROSOFT-CDO-ALLDAYEVENT:FALSE
SUMMARY:Aging and Loss: A workshop for conversation\, connection and support.
DESCRIPTION:This workshop is for people 62 and older who have experienced losses associated with aging. Losses associated with aging may include the death of a loved one\, impaired health\, financial insecurity\, changes in life roles and decreased self-esteem. Offered free of charge\, registration required.
X-ALT-DESC;FMTTYPE=text/html:This workshop is for people 62 and older who have experienced losses associated with aging. Losses associated with aging may include the death of a loved one\, impaired health\, financial insecurity\, changes in life roles and decreased self-esteem. Offered free of charge\, registration required.
LOCATION:Friends in Action Senior Center\, Ellsworth
UID:e.3061.2813
SEQUENCE:3
DTSTAMP:20260420T165913Z
URL:https://www.visitbarharbor.com/events/details/aging-and-loss-a-workshop-for-conversation-connection-and-support-08-02-2018-2813
END:VEVENT

END:VCALENDAR
