BEGIN:VCALENDAR
VERSION:2.0
PRODID:-//ChamberMaster//Event Calendar 2.0//EN
METHOD:PUBLISH
X-PUBLISHED-TTL:P3D
REFRESH-INTERVAL:P3D
CALSCALE:GREGORIAN
BEGIN:VEVENT
DTSTART:20190117T150000Z
DTEND:20190117T160000Z
X-MICROSOFT-CDO-ALLDAYEVENT:FALSE
SUMMARY:"Age By Design" Recipe Swap
DESCRIPTION:Join the Jesup Memorial Library\, Island Connections\, the YWCA Mount Desert Island and the Mount Desert Island YMCA for a recipe swap and coffee hour at the Jesup on Thursday\, Jan. 17 at 10 a.m. Bring copies of a recipe and leave with more recipes to try. \n\n \n\nThis event is part of Age By Design and is cosponsored by the Jesup\, Island Connections\, the YWCA MDI and the MDI YMCA. Age By Design is a series of programs and community discussions that explore various facets of life for those older than 50 and create opportunities for community get-togethers. \n\n \n\n"Age By Design is all about creating the community we want to age into\," said Melinda Rice\, program director at the Jesup Memorial Library. Individual programs will focus on physical health\, mental and spiritual health\, finances\, caregiving\, lifelong learning and building community. There will be at least one program each month in 2019.\n\n \n\nFor more information\, contact the Jesup at 207-288-4245 or athomas@jesuplibrary.org.
X-ALT-DESC;FMTTYPE=text/html:<span style="font-family:times new roman\,serif"><span style="font-size:14.0pt">Join the Jesup Memorial Library\, Island Connections\, the YWCA Mount Desert Island and the Mount Desert Island YMCA for a recipe swap and coffee hour at the Jesup on Thursday\, Jan. 17 at 10 a.m. Bring copies of a recipe and leave with more recipes to try. </span></span><br />\n&nbsp\;<br />\n<span style="font-family:times new roman\,serif"><span style="font-size:14.0pt">This event is part of Age By Design and is cosponsored by the Jesup\, Island Connections\, the YWCA MDI and the MDI YMCA. Age By Design is a series of programs and community discussions that explore various facets of life for those older than 50 and create opportunities for community get-togethers. </span></span><br />\n&nbsp\;<br />\n<span style="font-family:times new roman\,serif"><span style="font-size:14.0pt">&ldquo\;Age By Design is all about creating the community we want to age into\,&rdquo\; said Melinda Rice\, program director at the Jesup Memorial Library. Individual programs will focus on physical health\, mental and spiritual health\, finances\, caregiving\, lifelong learning and building community. There will be at least one program each month in 2019.</span></span><br />\n&nbsp\;<br />\n<span style="font-family:times new roman\,serif"><span style="font-size:14.0pt"><span>For more information\, contact the Jesup at <span class="gc-cs-link" id="gc-number-0" title="Call with Google Voice">207-288-4245</span> or </span><a href="mailto:athomas@jesuplibrary.org">athomas@jesuplibrary.org</a></span>. </span>
LOCATION:YWCA MDI\, 36 Mt. Desert St.\, Bar Harbor\, ME 04609
UID:e.3061.4855
SEQUENCE:3
DTSTAMP:20260422T085647Z
URL:https://www.visitbarharbor.com/events/details/age-by-design-recipe-swap-4855
END:VEVENT

END:VCALENDAR
