BEGIN:VCALENDAR
VERSION:2.0
PRODID:-//ChamberMaster//Event Calendar 2.0//EN
METHOD:PUBLISH
X-PUBLISHED-TTL:P3D
REFRESH-INTERVAL:P3D
CALSCALE:GREGORIAN
BEGIN:VEVENT
DTSTART:20191119T153000Z
DTEND:20191119T163000Z
X-MICROSOFT-CDO-ALLDAYEVENT:FALSE
SUMMARY:Age By Design: History of Radio
DESCRIPTION:Learn more about the history of radio with Paul Dupuis\, the general sales manager and on-air morning show host at Star 97.7\, during a talk at the YWCA MDI on Tuesday\, Nov. 19 at 10:30 p.m. This event is happening during the MDI Coffee House at the YWCA MDI\, which begins 9:30 a.m. \n\n \n\nDupuis will speak about the history of radio from the 1940s to the 1970s. He will bring samples of songs from those decades as well as commercial jingles and news bulletins from the time to play for attendees. Dupuis will also talk about how radio has changed over the years and how it remains relevant today. \n\n \n\nDupuis calls himself a "radio geek."  He has spent 28 years on the radio in Maine and has spent most of his time in the Bangor area. Dupuis also enjoys sharing his love for the radio business\, and he has taught several radio courses at the New England School of Communications at Husson University. \n\n \n\nThis event is part of Age By Design and is co-sponsored by the Jesup Memorial Library\, Island Connections\, the YWCA MDI and the MDI Hospital. Age By Design is a series of programs and community discussions that explore various facets of life for those older than 50 and create opportunities for community get-togethers.\n\n \n\nFor more information\, contact the Jesup at 207-288-4245.
X-ALT-DESC;FMTTYPE=text/html:<span style="font-family:times new roman\,serif"><span style="font-size:14.0pt">Learn more about the history of radio with Paul Dupuis\, the general sales manager and on-air morning show host at Star 97.7\, during a talk at the YWCA MDI on Tuesday\, Nov. 19 at 10:30 p.m. This event is happening during the MDI Coffee House at the YWCA MDI\, which begins 9:30 a.m. </span></span><br />\n&nbsp\;<br />\n<span style="font-family:times new roman\,serif"><span style="font-size:14.0pt">Dupuis will speak about the history of radio from the 1940s to the 1970s. He will bring samples of songs from those decades as well as commercial jingles and news bulletins from the time to play for attendees. Dupuis will also talk about how radio has changed over the years and how it remains relevant today. </span></span><br />\n&nbsp\;<br />\n<span style="font-family:times new roman\,serif"><span style="font-size:14.0pt">Dupuis calls himself a &ldquo\;radio geek.&rdquo\;&nbsp\; He has spent 28 years on the radio in Maine and has spent most of his time in the Bangor area. Dupuis also enjoys sharing his love for the radio business\, and he has taught several radio courses at the New England School of Communications at Husson University. </span></span><br />\n&nbsp\;<br />\n<span style="font-family:times new roman\,serif"><span style="font-size:14.0pt">This event is part of Age By Design and is co-sponsored by the Jesup Memorial Library\, Island Connections\, the YWCA MDI and the MDI Hospital. Age By Design is a series of programs and community discussions that explore various facets of life for those older than 50 and create opportunities for community get-togethers.</span></span><br />\n&nbsp\;<br />\n<span style="font-family:times new roman\,serif"><span style="font-size:14.0pt">For more information\, contact the Jesup at 207-288-4245.</span></span>
LOCATION:YWCA MDI\, 36 Mt. Desert St.\, Bar Harbor
UID:e.3061.16519
SEQUENCE:3
DTSTAMP:20260419T142008Z
URL:https://www.visitbarharbor.com/events/details/age-by-design-history-of-radio-16519
END:VEVENT

END:VCALENDAR
