BEGIN:VCALENDAR
VERSION:2.0
PRODID:-//ChamberMaster//Event Calendar 2.0//EN
METHOD:PUBLISH
X-PUBLISHED-TTL:P3D
REFRESH-INTERVAL:P3D
CALSCALE:GREGORIAN
BEGIN:VEVENT
DTSTART:20181006T173000Z
DTEND:20181006T183000Z
X-MICROSOFT-CDO-ALLDAYEVENT:FALSE
SUMMARY:Age By Design: Author Talk and Book Signing: Laurie Chandler "Upwards"
DESCRIPTION:At 53\, Laurie Apgar Chandler became the first woman to solo thru-paddle the 740-mile Northern Forest Canoe Trail (NFCT). Join Chandler a for an author talk and book signing at the Jesup Memorial Library on Saturday\, Oct. 6 at 1:30 p.m. She will share her story\, which she recounts in her book "Upwards: The Story of the First Woman to Solo Thru-Paddle the Northern Forest Canoe Trail."\n\n\n\nThe NFCT crosses New York\, Vermont\, part of Quebec\, New Hampshire and Maine. The trail covers 740 miles of canoe travel\, 150 miles of which are upstream and there are 67 portages that cover an additional 125 miles. In "Upwards\," Chandler tells the stories of her 53 days completing the journey including miles struggling upstream and racing down flooded rivers churning with whitewater. She also shares the story of finding an inner strength to complete this improbable journey.\n\n\n\nKarrie Thomas\, Executive Director of the NFCT\, writes "I was hooked in the first chapter. Chandler's writing is compelling\, and I felt a kindred spirit with her as she expressed deep inspiration and connection with the experience of being on the water."\n\n\n\nChandler began paddling when she moved to Maine in 2003. Her first experience on the NFCT was the "Paddle for Hope" a solo journey across the Maine part of the Northern Forest Canoe Trail that raised $10\,600 for the Maine Children's Cancer Program. Before long\, she was contemplating a solo thru-paddle of the entire trail. Chandler lives in Bremen\, Maine\, where she works with middle school students as an educational technician. She frequently speaks and writes about the NFCT and her adventures. "Upwards" is her first book.\n\n\n\nThis talk is part of Age By Design\, a series of programs co-sponsored by the Jesup Memorial Library\, the YWCA\, the YMCA\, and Island Connections\, focusing on all facets of life for people ages 50 and over. \n\n\n\nFor more information on Chandler visit laurieachandler.com and for more information on the talk contact the Jesup at 207-288-4245 or athomas@jesuplibrary.org.
X-ALT-DESC;FMTTYPE=text/html:At 53\, Laurie Apgar Chandler became the first woman to solo thru-paddle the 740-mile Northern Forest Canoe Trail (NFCT). Join Chandler a for an author talk and book signing at the Jesup Memorial Library on Saturday\, Oct. 6 at 1:30 p.m. She will share her story\, which she recounts in her book &ldquo\;Upwards: The Story of the First Woman to Solo Thru-Paddle the Northern Forest Canoe Trail.&rdquo\;<br />\n<br />\nThe NFCT crosses New York\, Vermont\, part of Quebec\, New Hampshire and Maine. The trail covers 740 miles of canoe travel\, 150 miles of which are upstream and there are 67 portages that cover an additional 125 miles. In &ldquo\;Upwards\,&rdquo\; Chandler tells the stories of her 53 days completing the journey including miles struggling upstream and racing down flooded rivers churning with whitewater. She also shares the story of finding an inner strength to complete this improbable journey.<br />\n<br />\nKarrie Thomas\, Executive Director of the NFCT\, writes &ldquo\;I was hooked in the first chapter. Chandler&#39\;s writing is compelling\, and I felt a kindred spirit with her as she expressed deep inspiration and connection with the experience of being on the water.&rdquo\;<br />\n<br />\nChandler began paddling when she moved to Maine in 2003. Her first experience on the NFCT was the &ldquo\;Paddle for Hope&rdquo\; a solo journey across the Maine part of the Northern Forest Canoe Trail that raised $10\,600 for the Maine Children&rsquo\;s Cancer Program. Before long\, she was contemplating a solo thru-paddle of the entire trail. Chandler lives in Bremen\, Maine\, where she works with middle school students as an educational technician. She frequently speaks and writes about the NFCT and her adventures. &ldquo\;Upwards&rdquo\; is her first book.<br />\n<br />\nThis talk is part of Age By Design\, a series of programs co-sponsored by the Jesup Memorial Library\, the YWCA\, the YMCA\, and Island Connections\, focusing on all facets of life for people ages 50 and over.&nbsp\;<br />\n<br />\n<span>For more information on Chandler visit laurieachandler.com and for more information on the talk contact the Jesup at <span class="gc-cs-link" id="gc-number-0" title="Call with Google Voice">207-288-4245</span> or athomas@jesuplibrary.org.&nbsp\;</span>
LOCATION:Jesup Memorial Library\, 34 Mt. Desert St.\, Bar Harbor\, ME 04609
UID:e.3061.3933
SEQUENCE:3
DTSTAMP:20260420T132704Z
URL:https://www.visitbarharbor.com/events/details/age-by-design-author-talk-and-book-signing-laurie-chandler-upwards-3933
END:VEVENT

END:VCALENDAR
