BEGIN:VCALENDAR
VERSION:2.0
PRODID:-//ChamberMaster//Event Calendar 2.0//EN
METHOD:PUBLISH
X-PUBLISHED-TTL:P3D
REFRESH-INTERVAL:P3D
CALSCALE:GREGORIAN
BEGIN:VEVENT
DTSTART:20180616T173000Z
DTEND:20180616T193000Z
X-MICROSOFT-CDO-ALLDAYEVENT:FALSE
SUMMARY:Age By Design: Alzheimer's and Brain Awareness
DESCRIPTION:Join representatives from organizations on MDI to learn more about how you can lessen your cognitive decline as you age at a special information fair as part of Age By Design on Saturday\, June 16 at 1:30 p.m. at the Jesup Memorial Library. \n\n \n\nJune is Alzheimer's and Brain Awareness Month and in recognition\, there will be a special information fair with 10 stations set up around the library\, where participants can learn different ways to boost brain health. There will be representatives from all four Age By Design cosponsors\, the Jesup\, Island Connections\, the YWCA MDI and the MDI YMCA on hand\, as well as Peter Sullivan\, the executive director of Birch Bay Village. There will also be information from MDI Adult Education and fitness instructor Susan Sassaman. \n\n \n\nThe stations are: Break a Sweat (exercising)\; Hit the Books (reading and education)\; Butt Out (quitting smoking)\; Follow Your Heart (decreaseing your risk of heart problems)\; Heads Up! (decreasing your risk of head injury)\; Fuel Up Right (eating healthy) Catch Some Zzz's (getting enough sleep)\; Take Care of Your Mental Health\; Buddy Up (staying social)\; and Stump Yourself (challenging your mind).\n\n \n\nFor more information on this event or the Age By Design series\, contact Ann Thomas at athomas@jesuplibrary.org or 207-288-4245.
X-ALT-DESC;FMTTYPE=text/html:<span style="font-family:times new roman\,serif"><span style="font-size:14.0pt">Join representatives from organizations on MDI to learn more about how you can lessen your cognitive decline as you age at a special information fair as part of Age By Design on Saturday\, June 16 at 1:30 p.m. at the Jesup Memorial Library. </span></span><br />\n&nbsp\;<br />\n<span style="font-family:times new roman\,serif"><span style="font-size:14.0pt">June is Alzheimer&#39\;s and Brain Awareness Month and in recognition\, there will be a special information fair with 10 stations set up around the library\, where participants can learn different ways to boost brain health. There will be representatives from all four Age By Design cosponsors\, the Jesup\, Island Connections\, the YWCA MDI and the MDI YMCA on hand\, as well as Peter Sullivan\, the executive director of Birch Bay Village. There will also be information from MDI Adult Education and fitness instructor Susan Sassaman. </span></span><br />\n&nbsp\;<br />\n<span style="font-family:times new roman\,serif"><span style="font-size:14.0pt">The stations are: Break a Sweat (exercising)\; Hit the Books (reading and education)\; Butt Out (quitting smoking)\; Follow Your Heart (decreaseing your risk of heart problems)\; Heads Up! (decreasing your risk of head injury)\; Fuel Up Right (eating healthy) Catch Some Zzz&#39\;s (getting enough sleep)\; Take Care of Your Mental Health\; Buddy Up (staying social)\; and Stump Yourself (challenging your mind).</span></span><br />\n&nbsp\;<br />\n<span style="font-family:times new roman\,serif"><span style="font-size:14.0pt">For more information on this event or the Age By Design series\, contact Ann Thomas at athomas@jesuplibrary.org or 207-288-4245.</span></span>
LOCATION:Jesup Memorial Library\, 34 Mt. Desert St.\, Bar Harbor\, ME 04609
UID:e.3061.2832
SEQUENCE:3
DTSTAMP:20260420T200011Z
URL:https://www.visitbarharbor.com/events/details/age-by-design-alzheimer-s-and-brain-awareness-2832
END:VEVENT

END:VCALENDAR
