BEGIN:VCALENDAR
VERSION:2.0
PRODID:-//ChamberMaster//Event Calendar 2.0//EN
METHOD:PUBLISH
X-PUBLISHED-TTL:P3D
REFRESH-INTERVAL:P3D
CALSCALE:GREGORIAN
BEGIN:VEVENT
DTSTART:20180725T190000Z
DTEND:20180725T200000Z
X-MICROSOFT-CDO-ALLDAYEVENT:FALSE
SUMMARY:Afternoon Summer High Teas at Woodlawn
DESCRIPTION:Enjoy a traditional high tea in an enchanting setting.  Catered by Flexit Caf  and Bakery\, Woodlawn's high teas are a long-standing tradition that have been delighting guests for many years. The cost for the high tea is $22 for Woodlawn members/$25 for non-members and includes your visit of the Black House. Space is limited. Pre-registration is required.
X-ALT-DESC;FMTTYPE=text/html:Enjoy a traditional high tea in an enchanting setting.&nbsp\; Catered by Flexit Caf&eacute\; and Bakery\, Woodlawn&rsquo\;s high teas are a long-standing tradition that have been delighting guests for many years.&nbsp\;The cost for the high tea is $22 for Woodlawn members/$25 for non-members and includes your visit of the Black House. <strong>Space is limited. Pre-registration is required.</strong>
LOCATION:Woodlawn Museum\, 19 Black House Drive\, Ellsworth\, ME 04605
UID:e.3061.2193
SEQUENCE:3
DTSTAMP:20260420T220418Z
URL:https://www.visitbarharbor.com/events/details/afternoon-summer-high-teas-at-woodlawn-07-25-2018-2193
END:VEVENT

END:VCALENDAR
