BEGIN:VCALENDAR
VERSION:2.0
PRODID:-//ChamberMaster//Event Calendar 2.0//EN
METHOD:PUBLISH
X-PUBLISHED-TTL:P3D
REFRESH-INTERVAL:P3D
CALSCALE:GREGORIAN
BEGIN:VEVENT
DTSTART:20180919T190000Z
DTEND:20180919T200000Z
X-MICROSOFT-CDO-ALLDAYEVENT:FALSE
SUMMARY:Afternoon Autumn High Tea at Woodlawn\, Sept. 19
DESCRIPTION:Enjoy a traditional high tea in an enchanting setting. Catered by Flexit Caf  and Bakery\, Woodlawn's high teas are a long-standing tradition that have been delighting guests for many years. The cost for the high tea is $22 for Woodlawn members/$25 for non-members and includes your visit of the Black House. Space is limited. Pre-registration is required.
X-ALT-DESC;FMTTYPE=text/html:Enjoy a traditional high tea in an enchanting setting. Catered by Flexit Caf&eacute\; and Bakery\, Woodlawn&rsquo\;s high teas are a long-standing tradition that have been delighting guests for many years. The cost for the high tea is $22 for Woodlawn members/$25 for non-members and includes your visit of the Black House. Space is limited. Pre-registration is required.
LOCATION:Woodlawn Museum
UID:e.3061.2805
SEQUENCE:3
DTSTAMP:20260420T151340Z
URL:https://www.visitbarharbor.com/events/details/afternoon-autumn-high-tea-at-woodlawn-sept-19-2805
END:VEVENT

END:VCALENDAR
