BEGIN:VCALENDAR
VERSION:2.0
PRODID:-//ChamberMaster//Event Calendar 2.0//EN
METHOD:PUBLISH
X-PUBLISHED-TTL:P3D
REFRESH-INTERVAL:P3D
CALSCALE:GREGORIAN
BEGIN:VEVENT
DTSTART:20181110T000000Z
DTEND:20181110T020000Z
X-MICROSOFT-CDO-ALLDAYEVENT:FALSE
SUMMARY:African Safari Talk
DESCRIPTION:Join Leslie Clapp and Blaise deSibour as they speak about and share photographs from their safari trip through South Africa\, well as their visits to Uganda and Rwanda\, at the Jesup Memorial Library on Friday\, Nov. 9 at 7 p.m. \n\n \n\nIn South Africa\, Clapp and deSibour crossed the country. They began with Western Cape's Cederberg Mountains\, and the famous Garden Route\, which begins on Western Cape's Mossel Bay and ends Eastern Cape's Storms River Mouth. From there they visited the Cape of Good Hope before heading east to Blyde River Canyon\, Kruger National Park and the lush Drakensberg Mountains. They then left South Africa's rugged coastline and semi-desert interior for Uganda's equatorial forests and the Nile River. They also will show pictures of their many animal encounters including the bizarre Shoebill stork\, endangered Mountain Gorillas and countless big cats.\n\n \n\nFor more information on this talk\, contact the Jesup at 207-288-4245 or mrice@jesuplibrary.org.
X-ALT-DESC;FMTTYPE=text/html:<span style="font-family:times new roman\,serif"><span style="font-size:14.0pt">Join Leslie Clapp and </span></span><span style="font-family:times new roman\,serif"><span style="font-size:14.0pt">Blaise deSibour as they speak about and share photographs from their safari trip through South Africa\, well as their visits to Uganda and Rwanda\, at the Jesup Memorial Library on Friday\, Nov. 9 at 7 p.m. </span></span><br />\n&nbsp\;<br />\n<span style="font-family:times new roman\,serif"><span style="font-size:14.0pt">In South Africa\, Clapp and deSibour crossed the country. They began with Western Cape&rsquo\;s Cederberg Mountains\, and the famous Garden Route\, which begins on Western Cape&rsquo\;s Mossel Bay and ends Eastern Cape&rsquo\;s Storms River Mouth. From there they visited the Cape of Good Hope before heading east to Blyde River Canyon\, Kruger National Park and the lush Drakensberg Mountains. They then left South Africa&rsquo\;s rugged coastline and semi-desert interior for Uganda&rsquo\;s equatorial forests and the Nile River. They also will show pictures of their many animal encounters including the bizarre Shoebill stork\, endangered Mountain Gorillas and countless big cats.</span></span><br />\n&nbsp\;<br />\n<span style="font-family:times new roman\,serif"><span style="font-size:14.0pt"><span>For more information on this talk\, contact the Jesup at <span class="gc-cs-link" id="gc-number-0" title="Call with Google Voice">207-288-4245</span> or </span><a href="mailto:mrice@jesuplibrary.org">mrice@jesuplibrary.org</a></span>. </span>
LOCATION:Jesup Memorial Library\, 34 Mt. Desert St.\, Bar Harbor\, ME 04609
UID:e.3061.4235
SEQUENCE:3
DTSTAMP:20260420T113217Z
URL:https://www.visitbarharbor.com/events/details/african-safari-talk-4235
END:VEVENT

END:VCALENDAR
