BEGIN:VCALENDAR
VERSION:2.0
PRODID:-//ChamberMaster//Event Calendar 2.0//EN
METHOD:PUBLISH
X-PUBLISHED-TTL:P3D
REFRESH-INTERVAL:P3D
CALSCALE:GREGORIAN
BEGIN:VEVENT
DTSTART:20190928T170000Z
DTEND:20190928T190000Z
X-MICROSOFT-CDO-ALLDAYEVENT:FALSE
SUMMARY:Advanced Encaustics
DESCRIPTION:with Mary Bowers. In this class\, we will expand on the hottest techniques and trends for creating with this medium. You can inscribe words\, include map selections\, unique papers or bring your own flat treasures to imbed into the beeswax /varnish medium and polish it up! Ages 12 and up.
X-ALT-DESC;FMTTYPE=text/html:with Mary Bowers. In this class\, we will expand on the hottest techniques and trends for creating with this medium. You can inscribe words\, include map selections\, unique papers or bring your own flat treasures to imbed into the beeswax /varnish medium and polish it up! Ages 12 and up.&nbsp\;&nbsp\;
LOCATION:ArtWaves\, 1345-A State Highway 102\, Bar Harbor.
UID:e.3061.15074
SEQUENCE:3
DTSTAMP:20260419T173029Z
URL:https://www.visitbarharbor.com/events/details/advanced-encaustics-09-28-2019-15074
END:VEVENT

END:VCALENDAR
