BEGIN:VCALENDAR
VERSION:2.0
PRODID:-//ChamberMaster//Event Calendar 2.0//EN
METHOD:PUBLISH
X-PUBLISHED-TTL:P3D
REFRESH-INTERVAL:P3D
CALSCALE:GREGORIAN
BEGIN:VEVENT
DTSTART:20190817T130000Z
DTEND:20190817T200000Z
X-MICROSOFT-CDO-ALLDAYEVENT:FALSE
SUMMARY:Accordion Botanical Books
DESCRIPTION:With instructor Rebecca Goodale we will work with paste paper and a marvelous structure called a star book\, a layered accordion with pop-up elements. Please bring an apron.
X-ALT-DESC;FMTTYPE=text/html:With instructor Rebecca Goodale we will work with paste paper and a marvelous structure called a star book\, a layered accordion with pop-up elements. Please bring an apron.&nbsp\;
LOCATION:ArtWaves\, 1345-A State Highway 102\, Bar Harbor.
UID:e.3061.14476
SEQUENCE:3
DTSTAMP:20260422T193524Z
URL:https://www.visitbarharbor.com/events/details/accordion-botanical-books-14476
END:VEVENT

END:VCALENDAR
