BEGIN:VCALENDAR
VERSION:2.0
PRODID:-//ChamberMaster//Event Calendar 2.0//EN
METHOD:PUBLISH
X-PUBLISHED-TTL:P3D
REFRESH-INTERVAL:P3D
CALSCALE:GREGORIAN
BEGIN:VEVENT
DTSTART:20180524T130000Z
DTEND:20180524T220000Z
X-MICROSOFT-CDO-ALLDAYEVENT:FALSE
SUMMARY:Acadia Senior College Art Show
DESCRIPTION:The 2018 Members' Art Show continues through the month of May at the Northeast Harbor Library.\n\n \n\nThe exhibit showcases the many talents of our members and is not to be missed. You'll find landscapes\, portraits\, sculpture\, carvings\, and more. Check out this year's "space blanket"-themed arch and sculptures.
X-ALT-DESC;FMTTYPE=text/html:<div><strong>The 2018 Members&#39\; Art Show continues through the month of May at the Northeast Harbor Library.</strong></div>\n\n<div>&nbsp\;</div>\n\n<div>The exhibit showcases the many talents of our members and is not to be missed. You&#39\;ll find landscapes\, portraits\, sculpture\, carvings\, and more. Check out this year&#39\;s &quot\;space blanket&quot\;-themed arch and sculptures.</div>\n
LOCATION:Northeast Harbor Library
UID:e.3061.2477
SEQUENCE:3
DTSTAMP:20260420T233253Z
URL:https://www.visitbarharbor.com/events/details/acadia-senior-college-art-show-05-24-2018-2477
END:VEVENT

END:VCALENDAR
