BEGIN:VCALENDAR
VERSION:2.0
PRODID:-//ChamberMaster//Event Calendar 2.0//EN
METHOD:PUBLISH
X-PUBLISHED-TTL:P3D
REFRESH-INTERVAL:P3D
CALSCALE:GREGORIAN
BEGIN:VEVENT
DTSTART:20180817T190000Z
DTEND:20180817T220000Z
X-MICROSOFT-CDO-ALLDAYEVENT:FALSE
SUMMARY:Acadia School of Traditional Music & Art and Beer Tasting with Airline Brewing Company
DESCRIPTION:Friday\, August 17\, as part of the Ellsworth Antiques Show. 3:00 p.m. to 6:00 p.m. Acadia School of Traditional Music & Art and Beer Tasting with Airline Brewing Company.
X-ALT-DESC;FMTTYPE=text/html:Friday\, August 17\, as part of the Ellsworth Antiques Show. 3:00 p.m. to 6:00 p.m. Acadia School of Traditional Music &amp\; Art and Beer Tasting with Airline Brewing Company.
LOCATION:Ellsworth Antiques Show at Woodlawn\, 19 Black House Drive\, Ellsworth\, Maine 04605
UID:e.3061.2513
SEQUENCE:3
DTSTAMP:20260420T170936Z
URL:https://www.visitbarharbor.com/events/details/acadia-school-of-traditional-music-art-and-beer-tasting-with-airline-brewing-company-2513
END:VEVENT

END:VCALENDAR
