BEGIN:VCALENDAR
VERSION:2.0
PRODID:-//ChamberMaster//Event Calendar 2.0//EN
METHOD:PUBLISH
X-PUBLISHED-TTL:P3D
REFRESH-INTERVAL:P3D
CALSCALE:GREGORIAN
BEGIN:VEVENT
DTSTART:20190927T220000Z
DTEND:20190927T230000Z
X-MICROSOFT-CDO-ALLDAYEVENT:FALSE
SUMMARY:Acadia Night Sky Festival presents: Dr. Jackie Faherty
DESCRIPTION:The Gaia space telescope recently released its second catalog of over 1.3 billion stellar distances\, which is helping astronomers map the Milky Way. Dr. Faherty will share cutting-edge visualizations of the most spectacular astronomical dataset of our time - a virtual tour hundreds of millions of stars. You will be immersed in the measured motions and distances of over a billion stars.
X-ALT-DESC;FMTTYPE=text/html:The Gaia space telescope recently released its second catalog of over 1.3 billion stellar distances\, which is helping astronomers map the Milky Way. Dr. Faherty will share cutting-edge visualizations of the most spectacular astronomical dataset of our time - a virtual tour hundreds of millions of stars. You will be immersed in the measured motions and distances of over a billion stars.
LOCATION:1932 Criterion Theatre 35 Cottage Street Bar Harbor\, ME 04609
UID:e.3061.15105
SEQUENCE:3
DTSTAMP:20260419T193038Z
URL:https://www.visitbarharbor.com/events/details/acadia-night-sky-festival-presents-dr-jackie-faherty-15105
END:VEVENT

END:VCALENDAR
